BEGIN:VCALENDAR
VERSION:2.0
PRODID:-//wp-events-plugin.com//7.2.3.1//EN
TZID:America/Detroit
X-WR-TIMEZONE:America/Detroit
BEGIN:VEVENT
UID:32084@arabamerica.com
DTSTART;TZID=America/Detroit:20240123T120000
DTEND;TZID=America/Detroit:20240124T140000
DTSTAMP:20240120T185140Z
URL:https://www.arabamerica.com/events/turabi-pottery-of-palestine/
SUMMARY:Turabi: Pottery of Palestine
DESCRIPTION:\n\nCHICAGO\, IL. Every Tuesday: Dive into the world of Palesti
 ne via creating replicas of items that signify a sense of belonging\, conn
 ection and home.\n\n\n\n\n\n\n\n\nThis ceramic course focuses on hand buil
 ding. Our course objective is to facilitate an understanding of ceramic te
 chniques\, and discuss ways in which we can understand concepts of home an
 d the spaces around us. IMAN embraces holistic health through creative exp
 ression\, to promote wellness and healing. During this course\, both funct
 ional and sculptural ceramic traditions will be explored. We will discuss 
 the history of ceramics\, and the nature and origin of clay. This course i
 s intended for those interested in creating and learning about architectur
 e and creating replicas of architectural works.\n\n\n\n\n\n\n\n\n\n\n\n\n\
 n\n\n\n\n\n\n\n\n\n\n\n\n\n\n\n\n
ATTACH;FMTTYPE=image/jpeg:https://www.arabamerica.com/wp-content/uploads/2
 024/01/https___cdn.evbuc_.com_images_513729029_303807369507_1_original.jpe
 g
CATEGORIES:Arab,Arab Ameircan Event,Community
LOCATION:IMAN's Beloved Community Ceramics Studio\, 2747 West 63rd Street\,
  Chicago\, Illinois \, United States
GEO:41.778869;-87.692818
X-APPLE-STRUCTURED-LOCATION;VALUE=URI;X-ADDRESS=2747 West 63rd Street\, Chi
 cago\, Illinois \, United States;X-APPLE-RADIUS=100;X-TITLE=IMAN's Beloved
  Community Ceramics Studio:geo:41.778869,-87.692818
END:VEVENT
BEGIN:VTIMEZONE
TZID:America/Detroit
X-LIC-LOCATION:America/Detroit
BEGIN:STANDARD
DTSTART:20231105T010000
TZOFFSETFROM:-0400
TZOFFSETTO:-0500
TZNAME:EST
END:STANDARD
END:VTIMEZONE
END:VCALENDAR