BEGIN:VCALENDAR
VERSION:2.0
PRODID:-//wp-events-plugin.com//7.2.3.1//EN
TZID:America/Detroit
X-WR-TIMEZONE:America/Detroit
BEGIN:VEVENT
UID:35320@arabamerica.com
DTSTART;TZID=America/Los_Angeles:20251123T180000
DTEND;TZID=America/Los_Angeles:20251123T210000
DTSTAMP:20251028T191657Z
URL:https://www.arabamerica.com/events/two-years-later-gaza-still-needs-yo
 u-seattle-fundraising-dinner/
SUMMARY:Two Years Later: Gaza Still Needs You - Seattle Fundraising Dinner
DESCRIPTION:Join us for an heartfelt evening in Seattle for humanitarian re
 lief in Palestine. Your support will help provide life-saving aid — incl
 uding food\, clean water\, medical supplies and equipment\, and other esse
 ntials.\n\nTogether\, we can transform compassion into action and provide 
 vital support to those who need it most.\n\nAt Muslim Aid USA\, we have be
 en steadfast in our commitment to Palestine. With our local partners on th
 e ground\, we continue to work tirelessly to bring aid directly to those i
 n need.\n\nKeynote Speaker: Sheikh Mohammed Faqih\n\nSheikh Mohammed Faqih
  traces his roots back to the ancient city of Harar in the Horn of Africa.
  Originally from Yemen\, his forefathers immigrated to East Africa and pla
 yed a central role in the Islamic history of the region.\n\nA specialist i
 n Tazkiyah and Adab and premarital and marital counseling with a Bachelor
 ’s in Islamic Studies from the Institute of Islamic and Arabic Sciences 
 in Fairfax\, VA. Shaykh Mohammed graduated in Quran memorization and recit
 ation from Jeddah\, Saudi Arabia. Shaykh Mohamed’s chain in the Quran is
  28 shy of the Prophet ﷺ.\n\nHe currently serves as Imam at the Islamic 
 Institute of Orange County\, otherwise known as Masjid Omar AlFarouk. He a
 lso serves as an instructor at the AlMaghrib Institute teaching courses on
  Islam internationally.\n\nQari: Sheikh Ramadan Elsabagh\n\nGuest Speaker:
  Ustadh Alaa Badr\n\nMotivational Speaker: Yousef Abdallah
ATTACH;FMTTYPE=image/jpeg:https://www.arabamerica.com/wp-content/uploads/2
 025/10/https___cdn.evbuc_.com_images_1162210843_721511350153_1_original.jp
 eg
LOCATION:Hilton Bellevue\, 300 112th Ave SE\, Bellevue\, Washington\, Unite
 d States
GEO:47.6072003;-122.18885030000001
X-APPLE-STRUCTURED-LOCATION;VALUE=URI;X-ADDRESS=300 112th Ave SE\, Bellevue
 \, Washington\, United States;X-APPLE-RADIUS=100;X-TITLE=Hilton Bellevue:g
 eo:47.6072003,-122.18885030000001
END:VEVENT
BEGIN:VTIMEZONE
TZID:America/Los_Angeles
X-LIC-LOCATION:America/Los_Angeles
BEGIN:STANDARD
DTSTART:20251102T010000
TZOFFSETFROM:-0700
TZOFFSETTO:-0800
TZNAME:PST
END:STANDARD
END:VTIMEZONE
END:VCALENDAR