BEGIN:VCALENDAR
VERSION:2.0
PRODID:-//wp-events-plugin.com//7.2.3.1//EN
TZID:America/Detroit
X-WR-TIMEZONE:America/Detroit
BEGIN:VEVENT
UID:30859@arabamerica.com
DTSTART;TZID=America/Detroit:20230425T150000
DTEND;TZID=America/Detroit:20230425T163000
DTSTAMP:20230410T174952Z
URL:https://www.arabamerica.com/events/ubs-inaugural-arab-american-heritag
 e-month-celebration/
SUMMARY:UB’s Inaugural Arab American Heritage Month Celebration
DESCRIPTION:Buffalo\, NY\nPlease join us to celebrate Eid Al Fitr and April
 ’s designation of Arab American Heritage Month for the first time here a
 t UB! We will be hosting several local Arab American leaders to talk about
  what these events mean to them as well as their experiences and achieveme
 nts in our local community. Arabic themed hors d’oeuvres and desserts wi
 ll be available.\n\nAll University community members including alumni are 
 welcome.\n\nMODERATED BY:\nSHAREEFA ALBANNA\nSTARTUP SUCCESS MANAGER\,\nUB
  BUSINESS &amp\; ENTREPRENEUR\nPARTNERSHIPS
ATTACH;FMTTYPE=image/jpeg:https://www.arabamerica.com/wp-content/uploads/2
 023/04/Screen-Shot-2023-04-10-at-1.43.14-PM.png
CATEGORIES:cultural celebration,Food
LOCATION:Student Union 210 (Landmark Room)\, Mary Talbert Way #150\, Buffal
 o\, NY\, 14228\, United States
GEO:43.000145;-78.788259
X-APPLE-STRUCTURED-LOCATION;VALUE=URI;X-ADDRESS=Mary Talbert Way #150\, Buf
 falo\, NY\, 14228\, United States;X-APPLE-RADIUS=100;X-TITLE=Student Union
  210 (Landmark Room):geo:43.000145,-78.788259
END:VEVENT
BEGIN:VTIMEZONE
TZID:America/Detroit
X-LIC-LOCATION:America/Detroit
BEGIN:DAYLIGHT
DTSTART:20230312T030000
TZOFFSETFROM:-0500
TZOFFSETTO:-0400
TZNAME:EDT
END:DAYLIGHT
END:VTIMEZONE
END:VCALENDAR