BEGIN:VCALENDAR
VERSION:2.0
PRODID:-//wp-events-plugin.com//7.2.3.1//EN
TZID:America/Detroit
X-WR-TIMEZONE:America/Detroit
BEGIN:VEVENT
UID:34310@arabamerica.com
DTSTART;TZID=America/Detroit:20250515T123000
DTEND;TZID=America/Detroit:20250515T130000
DTSTAMP:20250419T041012Z
URL:https://www.arabamerica.com/events/ubs-inper-cooking-class-lebanese-la
 mb-chickpea-pita-bowl-w-tahini-yogurt/
SUMMARY:UBS InPer Cooking Class: Lebanese Lamb-Chickpea-Pita Bowl w Tahini-
 Yogurt
DESCRIPTION:WEEHAWKEN\, NJ\n\nPlease note: This is an internal event for
  UBS employees only. This event is in person. Please register using yo
 ur UBS email address as this is an internal company event.\n\nPlease no
 te our attendance policies:\nSign Ups: Eventbrite sign-ups are limited to 
 one in-person class sign up per week per person.\nNo-Shows: Please cancel 
 if you are unable to attend or you will be marked as a ‘no show’. Afte
 r five no-show’s without notification\, access to further classes will b
 e paused for 30 days.
ATTACH;FMTTYPE=image/jpeg:https://www.arabamerica.com/wp-content/uploads/2
 025/04/Screenshot-2025-04-18-211547.jpg
CATEGORIES:lebanese
LOCATION:UBS Cooking School\, 1000 Harbor Boulevard\, Weehawken\, NJ\, 0708
 6\, United States
GEO:40.759672;-74.023422
X-APPLE-STRUCTURED-LOCATION;VALUE=URI;X-ADDRESS=1000 Harbor Boulevard\, Wee
 hawken\, NJ\, 07086\, United States;X-APPLE-RADIUS=100;X-TITLE=UBS Cooking
  School:geo:40.759672,-74.023422
END:VEVENT
BEGIN:VTIMEZONE
TZID:America/Detroit
X-LIC-LOCATION:America/Detroit
BEGIN:DAYLIGHT
DTSTART:20250309T030000
TZOFFSETFROM:-0500
TZOFFSETTO:-0400
TZNAME:EDT
END:DAYLIGHT
END:VTIMEZONE
END:VCALENDAR