BEGIN:VCALENDAR
VERSION:2.0
PRODID:-//wp-events-plugin.com//7.2.3.1//EN
TZID:America/Detroit
X-WR-TIMEZONE:America/Detroit
BEGIN:VEVENT
UID:33452@arabamerica.com
DTSTART;TZID=America/Detroit:20241003T183000
DTEND;TZID=America/Detroit:20241003T183000
DTSTAMP:20240903T033106Z
URL:https://www.arabamerica.com/events/uncovering-the-secrets-of-an-egypti
 an-mummy-and-coffin/
SUMMARY:Uncovering The Secrets Of An Egyptian Mummy And Coffin
DESCRIPTION:Bridgeport\, CT\n\nFor over a century\, visitors have admired t
 he mummy and its intricately decorated coffin\, believing it to belong to 
 a male priest named Pa-Ib from Luxor\, Egypt. However\, a jaw-dropping rev
 elation unveils a hidden truth: the mummy is not Pa-Ib but that of an anci
 ent Egyptian woman who lived over 4\,000 years ago.\n\n&nbsp\;
ATTACH;FMTTYPE=image/jpeg:https://www.arabamerica.com/wp-content/uploads/2
 024/09/Uncoveringthesecrets.jpeg
CATEGORIES:Ancient Egyptians,Ancient Eypt,Ancient history,Arab Cinema,Arab
 Culture,Film Screening
LOCATION:Bijou Theatre\, 275 Fairfield Ave\, Bridgeport\, CT\, 06604\, Unit
 ed States
GEO:41.178509;-73.192101
X-APPLE-STRUCTURED-LOCATION;VALUE=URI;X-ADDRESS=275 Fairfield Ave\, Bridgep
 ort\, CT\, 06604\, United States;X-APPLE-RADIUS=100;X-TITLE=Bijou Theatre:
 geo:41.178509,-73.192101
END:VEVENT
BEGIN:VTIMEZONE
TZID:America/Detroit
X-LIC-LOCATION:America/Detroit
BEGIN:DAYLIGHT
DTSTART:20240310T030000
TZOFFSETFROM:-0500
TZOFFSETTO:-0400
TZNAME:EDT
END:DAYLIGHT
END:VTIMEZONE
END:VCALENDAR