BEGIN:VCALENDAR
VERSION:2.0
PRODID:-//wp-events-plugin.com//7.2.3.1//EN
TZID:America/Detroit
X-WR-TIMEZONE:America/Detroit
BEGIN:VEVENT
UID:35582@arabamerica.com
DTSTART;TZID=America/Detroit:20260429T110000
DTEND;TZID=America/Detroit:20260429T121500
DTSTAMP:20251216T184936Z
URL:https://www.arabamerica.com/events/understanding-syria-past-present-an
 d-future-a-crown-seminar-with-daniel-neep-on-the-occasion-of-the-publicati
 on-of-syria-a-modern-history/
SUMMARY:Understanding Syria: Past\, Present\, and Future A Crown Seminar wi
 th Daniel Neep on the occasion of the publication of Syria: A Modern Histo
 ry
DESCRIPTION:
ATTACH;FMTTYPE=image/jpeg:https://www.arabamerica.com/wp-content/uploads/2
 025/12/20th-735x490-1.jpg
END:VEVENT
BEGIN:VTIMEZONE
TZID:America/Detroit
X-LIC-LOCATION:America/Detroit
BEGIN:DAYLIGHT
DTSTART:20260308T030000
TZOFFSETFROM:-0500
TZOFFSETTO:-0400
TZNAME:EDT
END:DAYLIGHT
END:VTIMEZONE
END:VCALENDAR