BEGIN:VCALENDAR
VERSION:2.0
PRODID:-//wp-events-plugin.com//7.2.3.1//EN
TZID:America/Detroit
X-WR-TIMEZONE:America/Detroit
BEGIN:VEVENT
UID:35094@arabamerica.com
DTSTART;TZID=America/New_York:20251211T080000
DTEND;TZID=America/New_York:20251211T220000
DTSTAMP:20250909T230344Z
URL:https://www.arabamerica.com/events/united-for-syria-a-vision-for-the-f
 uture-2/
SUMMARY:United for Syria: A Vision for the Future
DESCRIPTION:WASHINGTON\, DC\n\nJoin us while we hear from Syria’s new lea
 ders &amp\; experts on healthcare\, innovation\, and policy shaping a resi
 lient future for Syria.\n\nUnited for Syria: A Vision for the FutureCelebr
 ating One Year of Liberation\n\nThis December marks a historic milestone: 
 the one-year anniversary of Syria’s liberation. As we reflect on this mo
 mentous achievement\, we also recognize that the responsibility and opport
 unity to shape Syria’s future has never been greater.\n\nNow is the time
  for Syrians in the diaspora\, global allies\, and visionary leaders to co
 me together—not only to celebrate Syria’s resilience and liberation\, 
 but also to chart a collective vision for rebuilding a nation.\n\nJoin us 
 for United for Syria: A Vision for the Future\, a one-day conference and e
 vening gala in Washington\, DC\, hosted by four leading organizations—Sy
 rian American Council\, INARA\, Karam Foundation\, and MedGlobal. Together
 \, we will honor the courage of the Syrian people and spark collaboration 
 to build a roadmap toward Syria’s recovery.\n\nThis gathering will featu
 re Syrian voices\, U.S. and international policymakers\, development exper
 ts\, and advocates\, with forward-thinking discussions across key sectors:
 \n\nExclusive First Opportunity to Hear from Syria’s New Leaders: A rare
  chance to hear directly from Syria’s new leadership on negotiations\, s
 anctions\, and the path to recovery.\n\nHealthcare Systems &amp\; Medical 
 Infrastructure: Syrian healthcare professionals and humanitarian leaders a
 dvancing medical care in conflict zones.\n\nEducation\, Technology &amp\; 
 Innovation: Transformative education models and digital solutions empoweri
 ng Syria’s next generation.\n\nPolicy &amp\; Advocacy: U.S. lawmakers\, 
 Syrian dignitaries\, and international policy experts discussing strategie
 s for global engagement.\n\nThe day will culminate in a gala celebration m
 arking one year of Syria’s liberation\, bringing together leaders\, part
 ners\, and the diaspora to reflect on how far we’ve come—and to commit
  to the work that lies ahead.\n\nYour voice matters. Your presence matters
 . Together\, we can honor the past and help shape a resilient\, thriving f
 uture for Syria.\n\nConference: 8:00 AM – 4:00 PMHilton Washington DC Ca
 pitol Hill\, 525 New Jersey Ave NW\, Washington\, DC 20001\n\nGala Celebra
 tion: 6:00 PM – 10:00 PMHilton Washington DC Capitol Hill\, 525 New Jers
 ey Ave NW\, Washington\, DC 20001\n\nEarly Bird Tickets Available Now! Tak
 e advantage of discounted early bird pricing while it lasts.\n\nGET TICKET
 S HERE
ATTACH;FMTTYPE=image/jpeg:https://www.arabamerica.com/wp-content/uploads/2
 025/09/Screenshot-2025-09-09-at-6.55.04-PM.png
LOCATION:hilton Washington dc capital hill\, 525 New Jersey Avenue Northwes
 t\, Washington\, D.C.\, United States
GEO:38.896755;-77.01097
X-APPLE-STRUCTURED-LOCATION;VALUE=URI;X-ADDRESS=525 New Jersey Avenue North
 west\, Washington\, D.C.\, United States;X-APPLE-RADIUS=100;X-TITLE=hilton
  Washington dc capital hill:geo:38.896755,-77.01097
END:VEVENT
BEGIN:VTIMEZONE
TZID:America/New_York
X-LIC-LOCATION:America/New_York
BEGIN:STANDARD
DTSTART:20251102T010000
TZOFFSETFROM:-0400
TZOFFSETTO:-0500
TZNAME:EST
END:STANDARD
END:VTIMEZONE
END:VCALENDAR