BEGIN:VCALENDAR
VERSION:2.0
PRODID:-//wp-events-plugin.com//7.2.3.1//EN
TZID:America/Detroit
X-WR-TIMEZONE:America/Detroit
BEGIN:VEVENT
UID:34903@arabamerica.com
DTSTART;TZID=America/Detroit:20250925T080000
DTEND;TZID=America/Detroit:20250925T220000
DTSTAMP:20250805T193124Z
URL:https://www.arabamerica.com/events/united-for-syria-a-vision-for-the-f
 uture/
SUMMARY:United for Syria: A Vision for the Future
DESCRIPTION:United for Syria: A Vision for the Future\n\nAs Syria stands at
  a pivotal crossroads\, the responsibility and opportunity to shape its fu
 ture has never been greater. Now is the time for Syrians in the diaspora\,
  global allies\, and visionary leaders to come together and lead the conve
 rsation on rebuilding a nation.\n\nJoin us for United for Syria: A Vision
  for the Future\, a historic one-day conference in Washington\, DC\, where
  five leading organizations\, Syrian American Council\, INARA\, America
 n Coalition for Syria\, Karam Foundation\, and MedGlobal\, will unite to
  spark collaboration and chart a roadmap toward Syria’s recovery.\n\nThi
 s gathering will bring together Syrian voices\, U.S. and international pol
 icymakers\, development experts\, and advocates to explore forward-thinkin
 g solutions across three key sectors:\n\n&#x1f539\; Healthcare Systems &a
 mp\; Medical Infrastructure: Will feature Syrian healthcare professionals
  and humanitarian leaders advancing medical care in conflict zones.\n\n&#x
 1f539\; Education\, Technology &amp\; Innovation: Will highlight transfo
 rmative education models and digital solutions empowering Syria’s next g
 eneration.\n\n&#x1f539\; Policy &amp\; Advocacy: Will convene U.S. lawma
 kers\, Syrian dignitaries\, and international policy experts to discuss ef
 fective strategies for global engagement.\n\nYour voice matters. Your pres
 ence matters. Together\, we can help shape a resilient\, thriving future f
 or Syria.\n\n&nbsp\;\n\n&#x1f557\; Conference: 8:00 AM – 4:00 PM&#x1f4c
 d\; Hilton Washington DC Capitol Hill525 New Jersey Ave NW\, Washington\,
  DC 20001\n\n&#x1f555\; Gala: 6:00 PM – 10:00 PM&#x1f4cd\; Hilton Wash
 ington DC Capitol Hill525 New Jersey Ave NW\, Washington\, DC 20001\n\n&nb
 sp\;\n\n&#x1f39f\;&#xfe0f\; Early Bird Tickets Available Now!Take advanta
 ge of discounted early bird pricing while it lasts.\n\n&nbsp\;\n&#x1f3e8\;
  HOTEL BLOCK AVAILABLE\nWe have secured a special room block at the Hilto
 n Washington DC Capitol Hill for our event attendees. Enjoy exclusive dis
 counted rates and the convenience of staying just steps away from the venu
 e.\n\n&#x1f517\; Hotel Block Link\n\nPlease book early\, as rooms are lim
 ited and available on a first-come\, first-served basis\n\nHave questions?
  Contact the event organizer at suhadrasoul@gmail.com for more informati
 on.
ATTACH;FMTTYPE=image/jpeg:https://www.arabamerica.com/wp-content/uploads/2
 025/08/Screenshot-2025-08-05-at-12.28.40-PM.png
CATEGORIES:#arabic
LOCATION:hilton Washington dc capital hill\, 525 New Jersey Avenue Northwes
 t\, Washington\, D.C.\, United States
GEO:38.896755;-77.01097
X-APPLE-STRUCTURED-LOCATION;VALUE=URI;X-ADDRESS=525 New Jersey Avenue North
 west\, Washington\, D.C.\, United States;X-APPLE-RADIUS=100;X-TITLE=hilton
  Washington dc capital hill:geo:38.896755,-77.01097
END:VEVENT
BEGIN:VTIMEZONE
TZID:America/Detroit
X-LIC-LOCATION:America/Detroit
BEGIN:DAYLIGHT
DTSTART:20250309T030000
TZOFFSETFROM:-0500
TZOFFSETTO:-0400
TZNAME:EDT
END:DAYLIGHT
END:VTIMEZONE
END:VCALENDAR