BEGIN:VCALENDAR
VERSION:2.0
PRODID:-//wp-events-plugin.com//7.2.3.1//EN
TZID:America/Detroit
X-WR-TIMEZONE:America/Detroit
BEGIN:VEVENT
UID:34009@arabamerica.com
DTSTART;TZID=America/Detroit:20250214T170000
DTEND;TZID=America/Detroit:20250214T233000
DTSTAMP:20250122T005056Z
URL:https://www.arabamerica.com/events/valentines-day-dinner-at-marrakech-
 restaurant-2/
SUMMARY:Valentines Day dinner at Marrakech Restaurant.
DESCRIPTION:Valentines Day dinner at Marrakech Restaurant\n\nBelly dance sh
 ow and Champage toast included with tickets.\n\nCelebrate love with a spec
 ial Valentines Day dinner at Marrakech Restaurant! Treat your significant
  other to a romantic evening filled with delicious Moroccan cuisine and en
 chanting ambiance. Indulge in exotic flavors and spices while enjoying liv
 e music and a cozy atmosphere. Make this Valentines Day one to remember at
  Marrakech Restaurant!
ATTACH;FMTTYPE=image/jpeg:https://www.arabamerica.com/wp-content/uploads/2
 025/01/ii3iwj.png
LOCATION:Marrakech Restaurant\, 419 O'Farrell Street\, San Francisco \, Cal
 ifornia \, 94102\, United States
GEO:37.785803;-122.41184
X-APPLE-STRUCTURED-LOCATION;VALUE=URI;X-ADDRESS=419 O'Farrell Street\, San 
 Francisco \, California \, 94102\, United States;X-APPLE-RADIUS=100;X-TITL
 E=Marrakech Restaurant:geo:37.785803,-122.41184
END:VEVENT
BEGIN:VTIMEZONE
TZID:America/Detroit
X-LIC-LOCATION:America/Detroit
BEGIN:STANDARD
DTSTART:20241103T010000
TZOFFSETFROM:-0400
TZOFFSETTO:-0500
TZNAME:EST
END:STANDARD
END:VTIMEZONE
END:VCALENDAR