BEGIN:VCALENDAR
VERSION:2.0
PRODID:-//wp-events-plugin.com//7.2.3.1//EN
TZID:America/Detroit
X-WR-TIMEZONE:America/Detroit
BEGIN:VEVENT
UID:32212@arabamerica.com
DTSTART;TZID=America/Detroit:20240210T190000
DTEND;TZID=America/Detroit:20240210T200000
DTSTAMP:20240206T044137Z
URL:https://www.arabamerica.com/events/valentines-for-palestine/
SUMMARY:Valentines For Palestine
DESCRIPTION:SACRAMENTO\, CA.\n\nJoin us for a night of music and comedy to 
 support a great cause. The children of Gaza are going hungry and we want t
 o help. This all ages show will help bring supplies to those who desperate
 ly need it. Talk about feel good entertainment!\n\nHosted by Jonny Hags an
 d featuring Benjamin Warheit\, Anu Bea\, Vacation in Jordan\, and Broken T
 apes.\n\nCheck out this video of a Broken Tapes performance: https://www.
 youtube.com/watch?v=1XWIQ6V_qo8
ATTACH;FMTTYPE=image/jpeg:https://www.arabamerica.com/wp-content/uploads/2
 024/02/https___cdn.evbuc_.com_images_688265859_145959907030_1_original.jpe
 g
CATEGORIES:Community,culture,Music/Folk/World
LOCATION:STAB! Comedy Theater\, 1710 Broadway\, Sacramento\, CA\, United St
 ates
GEO:38.56094;-121.490627
X-APPLE-STRUCTURED-LOCATION;VALUE=URI;X-ADDRESS=1710 Broadway\, Sacramento\
 , CA\, United States;X-APPLE-RADIUS=100;X-TITLE=STAB! Comedy Theater:geo:3
 8.56094,-121.490627
END:VEVENT
BEGIN:VTIMEZONE
TZID:America/Detroit
X-LIC-LOCATION:America/Detroit
BEGIN:STANDARD
DTSTART:20231105T010000
TZOFFSETFROM:-0400
TZOFFSETTO:-0500
TZNAME:EST
END:STANDARD
END:VTIMEZONE
END:VCALENDAR