BEGIN:VCALENDAR
VERSION:2.0
PRODID:-//wp-events-plugin.com//7.2.3.1//EN
TZID:America/Detroit
X-WR-TIMEZONE:America/Detroit
BEGIN:VEVENT
UID:31568@arabamerica.com
DTSTART;TZID=America/Detroit:20231021T130000
DTEND;TZID=America/Detroit:20231021T170000
DTSTAMP:20230816T153301Z
URL:https://www.arabamerica.com/events/vegan-moroccan-cooking-wine-pairing
 -class-2/
SUMMARY:Vegan Moroccan Cooking & Wine Pairing Class
DESCRIPTION:\n\nGreetings Foodies &amp\; Wine Lovers!\n\nJoin me for a love
 ly afternoon of Vegan Moroccan Cooking and Wine Pairing at the beautiful
  FlipJack Ranch in Bonny Doon nestled amongst a red wood forest in the m
 agical Santa Cruz mountains.\n\nWe’ll be going on a delicious culinary 
 journey to different regions of Morocco making a 4 course plant-based me
 al:\n\nAppetizer - Za'atar-Spiced Date Walnut Olive Spread\n\nSalad – 
 Rainbow Carrot Pistachio with Citrus-Cardamom Vinaigrette\n\nEntree - Mor
 occan Aubergine Chickpea Stew with Lemon-Herb Couscous\n\nDessert – Blo
 od Orange Almond Cake\n\nA highlight of the class is always when we sit do
 wn and enjoy our beautiful culinary creations with a delicious French red
  wine. This year the featured red wine is the 2018 Château Cleyrac Borde
 aux\, which beautifully complements vegan Moroccan cuisine!\n\nClass runs
  for 4 hours and limited to 10 students to ensure the most spectacular 
 experience for all. Since\, seats are limited\, early registration is hig
 hly encouraged.
ATTACH;FMTTYPE=image/jpeg:https://www.arabamerica.com/wp-content/uploads/2
 023/08/https___cdn.evbuc_.com_images_516249719_89955351287_1_original.jpeg
CATEGORIES:Community,culture,Food
LOCATION:FlipJack Ranch - Farm to Table Bed & Breakfast 4600 Smith Grade Sa
 nta Cruz\, FlipJack Ranch - Farm to Table Bed &amp\; Breakfast 4600 Smith 
 Grade \, Santa Cruz\, CA\, 95060\, United States
GEO:37.036248;-122.14407
X-APPLE-STRUCTURED-LOCATION;VALUE=URI;X-ADDRESS=FlipJack Ranch - Farm to Ta
 ble Bed & Breakfast 4600 Smith Grade \, Santa Cruz\, CA\, 95060\, United S
 tates;X-APPLE-RADIUS=100;X-TITLE=FlipJack Ranch - Farm to Table Bed & Brea
 kfast 4600 Smith Grade Santa Cruz:geo:37.036248,-122.14407
END:VEVENT
BEGIN:VTIMEZONE
TZID:America/Detroit
X-LIC-LOCATION:America/Detroit
BEGIN:DAYLIGHT
DTSTART:20230312T030000
TZOFFSETFROM:-0500
TZOFFSETTO:-0400
TZNAME:EDT
END:DAYLIGHT
END:VTIMEZONE
END:VCALENDAR