BEGIN:VCALENDAR
VERSION:2.0
PRODID:-//wp-events-plugin.com//7.2.3.1//EN
TZID:America/Detroit
X-WR-TIMEZONE:America/Detroit
BEGIN:VEVENT
UID:35861@arabamerica.com
DTSTART;TZID=America/Detroit:20260228T170000
DTEND;TZID=America/Detroit:20260228T190000
DTSTAMP:20260214T004212Z
URL:https://www.arabamerica.com/events/voices-for-peace-ramadan-interfaith
 -dinner-3/
SUMMARY:Voices For Peace - Ramadan Interfaith Dinner
DESCRIPTION:Join us for a special dinner celebrating peace and unity during
  Ramadan with voices from different faiths coming together.\n\nVoices For 
 Peace - Ramadan Interfaith Dinner\n\nCome join us for an evening of harmon
 y and understanding at the Voices For Peace - Ramadan Interfaith Dinner ho
 sted by the Ahmadiyya Muslim Community. This event aims to bring together 
 people from different backgrounds to celebrate diversity and promote peace
 . Enjoy delicious food\, engaging conversations\, and a sense of community
  as we break bread together during this special time of Ramadan. Let's com
 e together to foster unity and friendship among all faiths. We look forwar
 d to seeing you there!
ATTACH;FMTTYPE=image/jpeg:https://www.arabamerica.com/wp-content/uploads/2
 026/02/image-5-2.webp
LOCATION:Baitul Ata Mosque\, 1800 Willow Trail Parkway\, Norcross\, GA\, 30
 093\, United States
GEO:33.9314;-84.16702
X-APPLE-STRUCTURED-LOCATION;VALUE=URI;X-ADDRESS=1800 Willow Trail Parkway\,
  Norcross\, GA\, 30093\, United States;X-APPLE-RADIUS=100;X-TITLE=Baitul A
 ta Mosque:geo:33.9314,-84.16702
END:VEVENT
BEGIN:VTIMEZONE
TZID:America/Detroit
X-LIC-LOCATION:America/Detroit
BEGIN:STANDARD
DTSTART:20251102T010000
TZOFFSETFROM:-0400
TZOFFSETTO:-0500
TZNAME:EST
END:STANDARD
END:VTIMEZONE
END:VCALENDAR