BEGIN:VCALENDAR
VERSION:2.0
PRODID:-//wp-events-plugin.com//7.2.3.1//EN
TZID:America/Detroit
X-WR-TIMEZONE:America/Detroit
BEGIN:VEVENT
UID:36109@arabamerica.com
DTSTART;TZID=America/Detroit:20260416T190000
DTEND;TZID=America/Detroit:20260416T230000
DTSTAMP:20260331T183324Z
URL:https://www.arabamerica.com/events/w-a-f-a-a-annual-family-night-dinne
 r-2026/
SUMMARY:W.A.F.A.A. Annual Family Night Dinner 2026
DESCRIPTION:This is a gala to provide updates about services of the WAFAA O
 rganization and to celebrate National Arab American Heritage Month.
ATTACH;FMTTYPE=image/jpeg:https://www.arabamerica.com/wp-content/uploads/2
 026/03/image-44-scaled.webp
LOCATION:The Brownstone\, 351 West Broadway\, Paterson\, NJ\, 07522\, Unite
 d States
GEO:40.926357;-74.185382
X-APPLE-STRUCTURED-LOCATION;VALUE=URI;X-ADDRESS=351 West Broadway\, Paterso
 n\, NJ\, 07522\, United States;X-APPLE-RADIUS=100;X-TITLE=The Brownstone:g
 eo:40.926357,-74.185382
END:VEVENT
BEGIN:VTIMEZONE
TZID:America/Detroit
X-LIC-LOCATION:America/Detroit
BEGIN:DAYLIGHT
DTSTART:20260308T030000
TZOFFSETFROM:-0500
TZOFFSETTO:-0400
TZNAME:EDT
END:DAYLIGHT
END:VTIMEZONE
END:VCALENDAR