BEGIN:VCALENDAR
VERSION:2.0
PRODID:-//wp-events-plugin.com//7.2.3.1//EN
TZID:America/Detroit
X-WR-TIMEZONE:America/Detroit
BEGIN:VEVENT
UID:31697@arabamerica.com
DTSTART;TZID=America/Detroit:20230923T100000
DTEND;TZID=America/Detroit:20231004T160000
DTSTAMP:20230919T022824Z
URL:https://www.arabamerica.com/events/w-i-l-l-power-women-in-lebanon-lead
 ership/
SUMMARY:W.I.L.L. POWER (Women in Lebanon Leadership)
DESCRIPTION:Women of the Lebanon Chamber meet monthly to learn leadership s
 kills with a variety of topics.\n\n2023 Session: 10 Disciplines to a Maste
 ry Mindset coached by Beth Conger Coaching!\n\nSometimes it’s more meani
 ngful\, impactful and enjoyable to explore personal development with other
 s. Team Building Workshops are a unique opportunity to drive leadership de
 velopment of all team members by exploring the “individual why” to unl
 ock a stronger\, “team-based WE.”\n\nChamber Members register at http
 s://form.jotform.com/230655298935165\n&nbsp\;\n\n\nYou may also like the f
 ollowing events from Lebanon Area Chamber of Commerce | Ohio:\n\n 	This S
 aturday\, 23rd September\, 10:00 am\, 9th Annual Feast &amp\; Fall-y in L
 ebanon\n 	Next Thursday\, 28th September\, 04:00 pm\, Business After Hour
 s at The Lebanon Brewing Company! in Lebanon\n 	Next month\, 4th October\,
  11:30 am\, October Lunch Local in Maineville\n\nAlso check out other Wo
 rkshops in Lebanon.
ATTACH;FMTTYPE=image/jpeg:https://www.arabamerica.com/wp-content/uploads/2
 023/09/2f26d873e5872036d20be995bbf028d91b0f72db525ce684b114ac7fdf723007-ri
 mg-w960-h540-gmir.webp
CATEGORIES:Community,culture
LOCATION:35 E Mulberry St\, 35 E Mulberry St\, Lebanon\, OH\, United States
GEO:39.43413;-84.207211
X-APPLE-STRUCTURED-LOCATION;VALUE=URI;X-ADDRESS=35 E Mulberry St\, Lebanon\
 , OH\, United States;X-APPLE-RADIUS=100;X-TITLE=35 E Mulberry St:geo:39.43
 413,-84.207211
END:VEVENT
BEGIN:VTIMEZONE
TZID:America/Detroit
X-LIC-LOCATION:America/Detroit
BEGIN:DAYLIGHT
DTSTART:20230312T030000
TZOFFSETFROM:-0500
TZOFFSETTO:-0400
TZNAME:EDT
END:DAYLIGHT
END:VTIMEZONE
END:VCALENDAR