BEGIN:VCALENDAR
VERSION:2.0
PRODID:-//wp-events-plugin.com//7.2.3.1//EN
TZID:America/Detroit
X-WR-TIMEZONE:America/Detroit
BEGIN:VEVENT
UID:31526@arabamerica.com
DTSTART;TZID=America/Detroit:20230930T200000
DTEND;TZID=America/Detroit:20231001T030000
DTSTAMP:20230807T230353Z
URL:https://www.arabamerica.com/events/wafeek-habib-party-3/
SUMMARY:WAFEEK HABIB PARTY
DESCRIPTION:
ATTACH;FMTTYPE=image/jpeg:https://www.arabamerica.com/wp-content/uploads/2
 023/08/https___cdn.evbuc_.com_images_536378029_299178195542_1_original.jpe
 g
CATEGORIES:#arabic,Arab Ameircan Event,Arab
 American,Community,culture,Music/Folk/World
LOCATION:Golden Rose Restaurant & Lounge 7115 Beach Boulevard Buena Park\, 
 Golden Rose Restaurant &amp\; Lounge 7115 Beach Boulevard Buena Park\, CA 
 90620\, Buena Ba\, CA\, United States
GEO:33.857418;-117.998657
X-APPLE-STRUCTURED-LOCATION;VALUE=URI;X-ADDRESS=Golden Rose Restaurant & Lo
 unge 7115 Beach Boulevard Buena Park\, CA 90620\, Buena Ba\, CA\, United S
 tates;X-APPLE-RADIUS=100;X-TITLE=Golden Rose Restaurant & Lounge 7115 Beac
 h Boulevard Buena Park:geo:33.857418,-117.998657
END:VEVENT
BEGIN:VTIMEZONE
TZID:America/Detroit
X-LIC-LOCATION:America/Detroit
BEGIN:DAYLIGHT
DTSTART:20230312T030000
TZOFFSETFROM:-0500
TZOFFSETTO:-0400
TZNAME:EDT
END:DAYLIGHT
END:VTIMEZONE
END:VCALENDAR