BEGIN:VCALENDAR
VERSION:2.0
PRODID:-//wp-events-plugin.com//7.2.3.1//EN
TZID:America/Detroit
X-WR-TIMEZONE:America/Detroit
BEGIN:VEVENT
UID:31407@arabamerica.com
DTSTART;TZID=America/Detroit:20230727T180000
DTEND;TZID=America/Detroit:20230727T190000
DTSTAMP:20230717T182748Z
URL:https://www.arabamerica.com/events/walkthrough-a-greater-beauty-in-ara
 bic-and-english/
SUMMARY:Walkthrough: "A Greater Beauty" in Arabic and English
DESCRIPTION:New York\, NY\nJoin us in-person at The Drawing Center for a bi
 lingual walkthrough presented in Arabic (Egyptian Dialect) and English wit
 h Isabella Kapur\, Curatorial Associate and Jovanna Abdou\, Curatorial Int
 ern on the exhibition A Greater Beauty: The Drawings of Kahlil Gibran\n\n
 يوم الخميس ٢٧ يوليو من ٦ حتي ٧ مساء تعالو
 ا وانضموا إلينا في جولة باللغتين العربية
  والإنجليزية مع إيزابلا كابور منسقة تنظي
 م المعارض، وجوفانا عبدة متدربة على تنظيم
  وتنسيق المعرض، تعالوا وانضموا لنا في مع
 رض من أعظم واجمل رسومات الفنان خليل جبرا
 ن
ATTACH;FMTTYPE=image/jpeg:https://www.arabamerica.com/wp-content/uploads/2
 023/07/Screen-Shot-2023-07-17-at-2.24.16-PM.png
CATEGORIES:#arabic
LOCATION:The Drawing Center\, 35 Wooster Street\, New York\, NY\, 10013\, U
 nited States
GEO:40.722439;-74.002882
X-APPLE-STRUCTURED-LOCATION;VALUE=URI;X-ADDRESS=35 Wooster Street\, New Yor
 k\, NY\, 10013\, United States;X-APPLE-RADIUS=100;X-TITLE=The Drawing Cent
 er:geo:40.722439,-74.002882
END:VEVENT
BEGIN:VTIMEZONE
TZID:America/Detroit
X-LIC-LOCATION:America/Detroit
BEGIN:DAYLIGHT
DTSTART:20230312T030000
TZOFFSETFROM:-0500
TZOFFSETTO:-0400
TZNAME:EDT
END:DAYLIGHT
END:VTIMEZONE
END:VCALENDAR