BEGIN:VCALENDAR
VERSION:2.0
PRODID:-//wp-events-plugin.com//7.2.3.1//EN
TZID:America/Detroit
X-WR-TIMEZONE:America/Detroit
BEGIN:VEVENT
UID:31783@arabamerica.com
DTSTART;TZID=America/Detroit:20231018T120000
DTEND;TZID=America/Detroit:20231018T133000
DTSTAMP:20231015T013337Z
URL:https://www.arabamerica.com/events/war-in-palestine-israel-and-interna
 tional-law/
SUMMARY:War in Palestine/Israel and International Law
DESCRIPTION:\n\nUN Special Rapporteur on the situation of human rights in t
 he Occupied Palestinian Territory Francesca Albanese will discuss the inte
 rnational legal dimensions of the ongoing war in Palestine/Israel. Albanes
 e will focus on the importance of centering an international law framework
  which includes International Humanitarian Law and Human Rights Law and th
 e importance of holding all parties accountable.\n\nThe UN Special Rapport
 eur will also discuss findings from her reporting on the situation in the 
 occupied Palestinian territory. Her July 2023 report submitted to the UN d
 elves into what she describes as “widespread carceralization” within t
 he occupied Palestinian territory\, where arbitrary deprivation of liberty
  characterizes Palestinian life “behind and beyond bars.” Her upcoming
  report to the UN General Assembly specifically focuses on the implication
 s of this regime for children and childhood. Emphasizing the imperative of
  effective international legal measures\, the Special Rapporteur explores 
 how legality and accountability can help disentangle this intricate matrix
  of abuses\, suffering\, and death.
ATTACH;FMTTYPE=image/jpeg:https://www.arabamerica.com/wp-content/uploads/2
 023/10/unnamed-2.jpg
CATEGORIES:Arab,Arab Ameircan Event,Arab
 American,culture,Discussion,Lecture
LOCATION:Via Zoom Webinar\, N/A\, N/A\, United States
GEO:37.09024;-95.712891
X-APPLE-STRUCTURED-LOCATION;VALUE=URI;X-ADDRESS=N/A\, N/A\, United States;X
 -APPLE-RADIUS=100;X-TITLE=Via Zoom Webinar:geo:37.09024,-95.712891
END:VEVENT
BEGIN:VTIMEZONE
TZID:America/Detroit
X-LIC-LOCATION:America/Detroit
BEGIN:DAYLIGHT
DTSTART:20230312T030000
TZOFFSETFROM:-0500
TZOFFSETTO:-0400
TZNAME:EDT
END:DAYLIGHT
END:VTIMEZONE
END:VCALENDAR