BEGIN:VCALENDAR
VERSION:2.0
PRODID:-//wp-events-plugin.com//7.2.3.1//EN
TZID:America/Detroit
X-WR-TIMEZONE:America/Detroit
BEGIN:VEVENT
UID:34825@arabamerica.com
DTSTART;TZID=America/Detroit:20250914T160000
DTEND;TZID=America/Detroit:20250914T180000
DTSTAMP:20250729T193622Z
URL:https://www.arabamerica.com/events/washington-dc-muslim-singles-event/
SUMMARY:Washington DC Muslim Singles Event
DESCRIPTION:WASHINGTON D.C.\n\n\nMeeting a suitable spouse has become a cha
 llenge with our busy lives and the lack of opportunities around us. Come a
 nd engage with single Muslims by being introduced to them through fun hala
 l initiatives.\n\nJoin us for some fun and engaging discussion. Whatever y
 our marital status - there is going to be some open discussion around marr
 iage and relationships\, which we hope will change your life and perceptio
 ns.\n\nAt our event\, you will have ten-minutes plus one-on-one chats with
  about twenty others. No cringey group exercises\, no awkward standing aro
 und trying to break into a group.\n\n*The attendees will use the Right App
 's In-person event to connect with others after the event .Right App is a 
 leading platform for online and In-person muslim matrimonial and networkin
 g events.\n\nPlease note\, you may be photographed or video recorded durin
 g the event .By joining the event \, you consent to interview(s)\, photogr
 aphy\, audio recording\, video recording and permission to use the materia
 l for advertising or other purposes.\n\nFAQs:\n\nMeeting Location ?\n\nExa
 ct meeting location with host contact info will be sent to all paid attend
 ees by the day of the event.\n\nCan I Volunteer?\n\nYes\, please email us\
 n\nI want to promote a service/product/media ?\n\nSure\, please get in tou
 ch\n\nI can't afford it?\n\nPlease email us and we will assist.Tickets are
  free for volunteers an those who cant afford because of financial hardshi
 ps
ATTACH;FMTTYPE=image/jpeg:https://www.arabamerica.com/wp-content/uploads/2
 025/07/DC_singles_event.png
LOCATION:700 K St NW\, 700 K Street Northwest\, Washington D.C.\, 20001\, U
 nited States
GEO:38.901975;-77.022587
X-APPLE-STRUCTURED-LOCATION;VALUE=URI;X-ADDRESS=700 K Street Northwest\, Wa
 shington D.C.\, 20001\, United States;X-APPLE-RADIUS=100;X-TITLE=700 K St 
 NW:geo:38.901975,-77.022587
END:VEVENT
BEGIN:VTIMEZONE
TZID:America/Detroit
X-LIC-LOCATION:America/Detroit
BEGIN:DAYLIGHT
DTSTART:20250309T030000
TZOFFSETFROM:-0500
TZOFFSETTO:-0400
TZNAME:EDT
END:DAYLIGHT
END:VTIMEZONE
END:VCALENDAR