BEGIN:VCALENDAR
VERSION:2.0
PRODID:-//wp-events-plugin.com//7.2.3.1//EN
TZID:America/Detroit
X-WR-TIMEZONE:America/Detroit
BEGIN:VEVENT
UID:36222@arabamerica.com
DTSTART;TZID=America/Detroit:20260520T190000
DTEND;TZID=America/Detroit:20260520T190000
DTSTAMP:20260421T163134Z
URL:https://www.arabamerica.com/events/we-are-not-numbers-reading/
SUMMARY:WE ARE NOT NUMBERS Reading
DESCRIPTION:\n\n\nThe Elliott Bay Book Company Seattle\, WA\n\nAn evening o
 f readings from We Are Not Numbers: The Voices of Gaza's Youth\, moderate
 d by Alice Rothchild\n\n\n\n\n\n\nJoin Ayah Abdel-Qader\, Lubna Alzaroo\, 
 Yarra Hassan\, and Giovanna Khoury\, with Alice Rothchild\, for an evening
  of readings from We Are Not Numbers: The Voices of Gaza's Youth.\n\nWe A
 re Not Numbers was founded in 2014 to give voice to the youth of Gaza. In
  this collection—vital\, urgent and full of heart\, spanning over ten ye
 ars to the present moment—we gain an unparalleled insight into the past\
 , as well as the current and next generation of Palestinian leaders\, arti
 sts\, scientists and scholars and imagine where we might go from here.\n\n
 “We Are Not Numbers is not just a book—it’s my life\, their life\, 
 and our shared story. I know some of these brave writers\; I’ve walked t
 he same streets\, felt the same fear\, and shared the same dreams under Ga
 za’s skies. These pages carry the truth of our struggle and the beauty o
 f our humanity. This is Gaza as it truly is\, written by those who live it
  every day.” — Motaz Azaiza\, award-winning Palestinian photojournalis
 t\n\n“With lovingly crafted words and stories\, the authors in We Are N
 ot Numbers open portals in Israel’s apartheid wall\, inviting readers i
 nto the impossible realities of life under siege in Gaza. The collective c
 ommitment to doing whatever it takes to produce this extraordinary symphon
 y of testimony is evident on every page. This book is a jailbreak—and a 
 miracle.” — Naomi Klein\n\n“Essential . . . A project that insists o
 n liberation.” — Ta-Nehisi Coates\n\n“A rebellion against the singul
 ar story. An insightful\, multifaceted glimpse into the besieged Gaza Stri
 p\, where millions of people continue to confront a genocide waged by an I
 sraeli regime.” — Mohammed el-Kurd\n\nA teenage girl stares at her roo
 f\, hoping it won’t collapse over her head. A young student searches the
  Internet for photos of libraries around the world\, hoping he’ll be abl
 e to visit them one day. Another walks around the city\, taking notes of a
 ll the buildings she dreams of repairing.\n\nThese are the stories of youn
 g people from Gaza\, born under Israeli occupation and blockade. They are 
 people who have endured unspeakable struggles and losses\, who keep fighti
 ng to be recognized not as numbers\, but as human beings with hopes\, drea
 ms\, and lives worth living.\n\n\n
ATTACH;FMTTYPE=image/jpeg:https://www.arabamerica.com/wp-content/uploads/2
 026/04/image-63.webp
CATEGORIES:Community,culture
LOCATION:The Elliott Bay Book Company\, 1521 10th Avenue\, Seattle\, WA\, 9
 8122\, United States
GEO:47.61467;-122.319792
X-APPLE-STRUCTURED-LOCATION;VALUE=URI;X-ADDRESS=1521 10th Avenue\, Seattle\
 , WA\, 98122\, United States;X-APPLE-RADIUS=100;X-TITLE=The Elliott Bay Bo
 ok Company:geo:47.61467,-122.319792
END:VEVENT
BEGIN:VTIMEZONE
TZID:America/Detroit
X-LIC-LOCATION:America/Detroit
BEGIN:DAYLIGHT
DTSTART:20260308T030000
TZOFFSETFROM:-0500
TZOFFSETTO:-0400
TZNAME:EDT
END:DAYLIGHT
END:VTIMEZONE
END:VCALENDAR