BEGIN:VCALENDAR
VERSION:2.0
PRODID:-//wp-events-plugin.com//7.2.3.1//EN
TZID:America/Detroit
X-WR-TIMEZONE:America/Detroit
BEGIN:VEVENT
UID:35152@arabamerica.com
DTSTART;TZID=America/Detroit;VALUE=DATE:20260419
DTEND;TZID=America/Detroit;VALUE=DATE:20260422
DTSTAMP:20250923T193349Z
URL:https://www.arabamerica.com/events/we-bring-significant-change-second-
 annual-summit/
SUMMARY:WE BRING SIGNIFICANT CHANGE! SECOND ANNUAL SUMMIT
DESCRIPTION:CHICAGO\, IL\n\n&nbsp\;\n\nMENASA Group is Changing the Narrati
 ve\n\n&#x1f6a8\; Are you tired of clinical trial and industry conferences 
 that all look and feel the same?\n\n&#x274c\; The same themes.\n&#x274c\; 
 The same vendors and sponsors.\n&#x274c\; The same conversations year afte
 r year.\n\nMeanwhile\, the U.S. market is shrinking\, oversaturated\, and 
 more competitive than ever. Is your sponsorship\, time\, and energy really
  giving you the ROI you deserve? Or are you still investing in the same 
 “blah blah blah” networking without new opportunities?\n\n&#x2728\; It
 ’s time for something different.\nAt the MENASA Group Annual Summit\, we
  bring a fresh perspective:\n&#x1f30d\; New themes.\n&#x1f91d\; New market
 s.\n&#x1f4a1\; New investors.\n&#x1f4c8\; New opportunities.\n\nJoin us in
  Chicago\, April 19–21\, 2026\, at Insight Hospital for our Second Annua
 l MENASA Group Summit. This isn’t just another conference — it’s a g
 ateway to thriving markets in the Middle East\, North Africa\, and South A
 sia\, where clinical research is growing\, investment is surging\, and opp
 ortunities are wide open.\n&#x1f3b6\; We’ll kick off with a cultural cel
 ebration featuring our Goodwill Ambassadors\, the National Arab Orchestra 
 (April 19).\n&#x1f310\; Followed by impactful sessions led by renowned spe
 akers and leaders from the UAE\, Lebanon\, Saudi Arabia\, Egypt\, Pakistan
 \, and across the MENASA region.\n\nThis is where real opportunities meet 
 global demand. Don’t just attend another conference. Be part of a moveme
 nt that is shaping the future of clinical research worldwide.\n\n&#x1f4cd\
 ; MENASA Summit 2026 | Chicago\, Insight Hospital | April 19–21\n\n&#x1f
 310\; Learn more: www.menasagroup.org\n| www.menasasummit.org\n\nhashtag#M
 ENASASummit2026 hashtag#GlobalHealth hashtag#ClinicalResearch hashtag#Inno
 vation hashtag#Equity hashtag#HealthcareLeadership
ATTACH;FMTTYPE=image/jpeg:https://www.arabamerica.com/wp-content/uploads/2
 025/09/Screenshot-2025-09-23-at-3.32.55-PM.png
LOCATION:Insight Hospital\, 2525 S Michigan Ave\, Chicago \, IL\, 60616\, U
 nited States
GEO:41.847014;-87.620971
X-APPLE-STRUCTURED-LOCATION;VALUE=URI;X-ADDRESS=2525 S Michigan Ave\, Chica
 go \, IL\, 60616\, United States;X-APPLE-RADIUS=100;X-TITLE=Insight Hospit
 al:geo:41.847014,-87.620971
END:VEVENT
BEGIN:VTIMEZONE
TZID:America/Detroit
X-LIC-LOCATION:America/Detroit
BEGIN:DAYLIGHT
DTSTART:20260308T030000
TZOFFSETFROM:-0500
TZOFFSETTO:-0400
TZNAME:EDT
END:DAYLIGHT
END:VTIMEZONE
END:VCALENDAR