BEGIN:VCALENDAR
VERSION:2.0
PRODID:-//wp-events-plugin.com//7.2.3.1//EN
TZID:America/Detroit
X-WR-TIMEZONE:America/Detroit
BEGIN:VEVENT
UID:35296@arabamerica.com
DTSTART;TZID=America/New_York:20251026T120000
DTEND;TZID=America/New_York:20251026T133000
DTSTAMP:20251022T004852Z
URL:https://www.arabamerica.com/events/weekly-rally-for-palestine/
SUMMARY:Weekly Rally for Palestine
DESCRIPTION:Middletown\, NY\n\nJoin us at the Weekly Rally for Palestine! 
 Show your support for Palestine at our in-person event held every week at
  440 NY-211\, Middletown\, NY 10490. Come together with like-minded indiv
 iduals to raise awareness and stand in solidarity. Let's make our voices h
 eard and advocate for justice. See you there!\n\n&#x267f\;&#xfe0f\; Acces
 sibility: The area along Route 211 includes a slight slope and some uneven
  grass\, but there is flat sidewalk access with space to gather and a benc
 h available. You may also use the accessibility survey in bio to anonymous
 ly request any reasonable accommodations!\n—————————\n&#
 x1f68c\; Transportation: City of Middletown buses do not run on Sundays. 
 If getting here is a barrier\, please reach out or comment so we can help 
 coordinate carpooling.\n—————————\n&#x1f193\; Free reso
 urces: We'll have plenty of items on hand to keep everyone safe and comfor
 table-sunscreen\, cold water\, snacks\, flags\, protest signs\, instrument
 s\, bug spray\, and more.\n—————————\n&#x1f637\; Masks:
  Free face masks will be available on site for anyone who would like one\,
  for safety and privacy.\n—————————\n&#x23f0\; Time &am
 p\; Place: Join us from 12:00-1:30 PM at the intersection of Route 211 &am
 p\; Dunning Road\, behind the guardrails near Orange Plaza (440 NY-211\, M
 iddletown\, NY 10940).\n—————————\n&#x1f4e3\; Shared Fa
 cilitation: Tap into our community and help lead change! Join us in shared
  facilitation to co-lead our rallies each week\, keeping the momentum goin
 g each week and inspiring action together!\n\nFIND OUT MORE HERE: linktr.
 ee/rallymiddletown
ATTACH;FMTTYPE=image/jpeg:https://www.arabamerica.com/wp-content/uploads/2
 025/10/Screen-Shot-2025-10-21-at-8.46.22-PM-1.png
LOCATION:440 NY-211\, 440 New York 211 \, Middletown\, New York \, 10940\, 
 United States
GEO:41.454799;-74.382557
X-APPLE-STRUCTURED-LOCATION;VALUE=URI;X-ADDRESS=440 New York 211 \, Middlet
 own\, New York \, 10940\, United States;X-APPLE-RADIUS=100;X-TITLE=440 NY-
 211:geo:41.454799,-74.382557
END:VEVENT
BEGIN:VTIMEZONE
TZID:America/New_York
X-LIC-LOCATION:America/New_York
BEGIN:DAYLIGHT
DTSTART:20250309T030000
TZOFFSETFROM:-0500
TZOFFSETTO:-0400
TZNAME:EDT
END:DAYLIGHT
END:VTIMEZONE
END:VCALENDAR