BEGIN:VCALENDAR
VERSION:2.0
PRODID:-//wp-events-plugin.com//7.2.3.1//EN
TZID:America/Detroit
X-WR-TIMEZONE:America/Detroit
BEGIN:VEVENT
UID:32405@arabamerica.com
DTSTART;TZID=America/Detroit:20240315T183000
DTEND;TZID=America/Detroit:20240315T203000
DTSTAMP:20240306T041445Z
URL:https://www.arabamerica.com/events/welcome-ramadan-iftar-fundraiser-mi
 nneapolis/
SUMMARY:Welcome Ramadan Iftar Fundraiser - Minneapolis
DESCRIPTION:\nAbout this event\n\n&nbsp\;\n\n 	3 hours\n 	Mobile eTicket\n\
 n&nbsp\;\n\n\n\n\n\n\nAssalamualaikum warahmatullahi wabarakatuhu and welc
 ome\,\n\nWe cordially invite you to our fundraising iftar\, where we aim t
 o make a difference in the lives of those in need. It would be an immense 
 honor to have you join us and witness the accomplishments we have achieved
  thus far. Your presence holds great significance and will be deeply appre
 ciated. Together\, let us work towards creating a positive impact and brin
 ging about positive change.\n\n\n\n\n\n
ATTACH;FMTTYPE=image/jpeg:https://www.arabamerica.com/wp-content/uploads/2
 024/03/Screen-Shot-2024-03-05-at-11.12.34-PM.png
LOCATION:Fridley Community Center\, 6085 7th St NE\, Fridley\, MN\, United 
 States
GEO:45.078227;-93.256825
X-APPLE-STRUCTURED-LOCATION;VALUE=URI;X-ADDRESS=6085 7th St NE\, Fridley\, 
 MN\, United States;X-APPLE-RADIUS=100;X-TITLE=Fridley Community Center:geo
 :45.078227,-93.256825
END:VEVENT
BEGIN:VTIMEZONE
TZID:America/Detroit
X-LIC-LOCATION:America/Detroit
BEGIN:DAYLIGHT
DTSTART:20240310T030000
TZOFFSETFROM:-0500
TZOFFSETTO:-0400
TZNAME:EDT
END:DAYLIGHT
END:VTIMEZONE
END:VCALENDAR