BEGIN:VCALENDAR
VERSION:2.0
PRODID:-//wp-events-plugin.com//7.2.3.1//EN
TZID:America/Detroit
X-WR-TIMEZONE:America/Detroit
BEGIN:VEVENT
UID:33026@arabamerica.com
DTSTART;TZID=America/Detroit:20240622T130000
DTEND;TZID=America/Detroit:20240622T160000
DTSTAMP:20240612T051709Z
URL:https://www.arabamerica.com/events/welcome-to-the-fold-bay-area-newcom
 ers-eid-bbq/
SUMMARY:Welcome to the Fold: Bay Area Newcomers' Eid BBQ
DESCRIPTION:Join us in the Bay Area for our monthly convert meet-up welcomi
 ng the newest members of our faith community.\n\nSaturday\, June 22 · 1 -
  4pm PDT\n\nWelcome to the Fold\n\nJoin us on Saturday June 22nd from 1-4p
 m for a Newcomers' BBQ at Lake Temescal in Oakland. Join us the weekend af
 ter Eid for some food and community!\n\nIt can be overwhelming to find our
  community and navigate this beautiful religion when we embrace Islam. We 
 invite you to j oin us for this monthly gathering to welcome in the newest
  members of our faith community. Benefit from a reflection on the intersec
 tion of faith and life as well as connect with others who have embraced Is
 lam.\n\nThis gathering is for those who have converted to Islam or are in 
 the process of learning more about Islam to build connections with others 
 who have undergone similar journeys and have a good time!\n\n&nbsp\;
ATTACH;FMTTYPE=image/jpeg:https://www.arabamerica.com/wp-content/uploads/2
 024/06/IMG_0780.jpeg
LOCATION:Temescal Regional Recreation Area\, 6500 Broadway\, Oakland\, CA\,
  94618\, United States
GEO:37.847294;-122.230135
X-APPLE-STRUCTURED-LOCATION;VALUE=URI;X-ADDRESS=6500 Broadway\, Oakland\, C
 A\, 94618\, United States;X-APPLE-RADIUS=100;X-TITLE=Temescal Regional Rec
 reation Area:geo:37.847294,-122.230135
END:VEVENT
BEGIN:VTIMEZONE
TZID:America/Detroit
X-LIC-LOCATION:America/Detroit
BEGIN:DAYLIGHT
DTSTART:20240310T030000
TZOFFSETFROM:-0500
TZOFFSETTO:-0400
TZNAME:EDT
END:DAYLIGHT
END:VTIMEZONE
END:VCALENDAR