BEGIN:VCALENDAR
VERSION:2.0
PRODID:-//wp-events-plugin.com//7.2.3.1//EN
TZID:America/Detroit
X-WR-TIMEZONE:America/Detroit
BEGIN:VEVENT
UID:33023@arabamerica.com
DTSTART;TZID=America/Detroit:20240622T180000
DTEND;TZID=America/Detroit:20240622T200000
DTSTAMP:20240612T050256Z
URL:https://www.arabamerica.com/events/welcome-to-the-fold-chicago-newcome
 rs-eid-bbq/
SUMMARY:Welcome to the Fold: Chicago Newcomers' Eid BBQ
DESCRIPTION:Join us in Chicago for our monthly convert meet-up welcoming th
 e newest members of our faith community.\n\nSaturday\, June 22 · 6 - 8pm 
 CDT\n\nWelcome to the Fold\n\nJoin us on Saturday June 22nd from 6-8pm at 
 Ta'leef in Chicago for some outdoor fun\, food and community to celebrate 
 the weekend after Eid. Come join others who are new to the Muslim communit
 y or have embraced Islam. Grab some dinner\, meet some new friends and ben
 efit from reflections on what our hearts are carrying.\n\nThis gathering i
 s for those who have converted to Islam or are in the process of learning 
 more about Islam to build connections with others who have undergone simil
 ar journeys and have a good time!\n\nPlease register so we can expect you!
ATTACH;FMTTYPE=image/jpeg:https://www.arabamerica.com/wp-content/uploads/2
 024/06/IMG_0777.jpeg
LOCATION:Ta'leef Chicago\, 1935 S. Halsted \, Chicago\, IL\, 60608\, United
  States
GEO:41.855599;-87.64626
X-APPLE-STRUCTURED-LOCATION;VALUE=URI;X-ADDRESS=1935 S. Halsted \, Chicago\
 , IL\, 60608\, United States;X-APPLE-RADIUS=100;X-TITLE=Ta'leef Chicago:ge
 o:41.855599,-87.64626
END:VEVENT
BEGIN:VTIMEZONE
TZID:America/Detroit
X-LIC-LOCATION:America/Detroit
BEGIN:DAYLIGHT
DTSTART:20240310T030000
TZOFFSETFROM:-0500
TZOFFSETTO:-0400
TZNAME:EDT
END:DAYLIGHT
END:VTIMEZONE
END:VCALENDAR