BEGIN:VCALENDAR
VERSION:2.0
PRODID:-//wp-events-plugin.com//7.2.3.1//EN
TZID:America/Detroit
X-WR-TIMEZONE:America/Detroit
BEGIN:VEVENT
UID:35090@arabamerica.com
DTSTART;TZID=America/Detroit:20251003T093000
DTEND;TZID=America/Detroit:20251003T153000
DTSTAMP:20250908T115323Z
URL:https://www.arabamerica.com/events/west-african-sufi-poetry-inspired-a
 rt/
SUMMARY:West African Sufi Poetry Inspired Art
DESCRIPTION:ABIQUIÚ\, NM\n\n\n\n\n\nWest African Sufism Poetry Inspired Ar
 t\n\nJoin Nicholas Pelafas\, aka Saliou\, the program director of the West
  African Calligraphy Institute for a special day. The mission of the WACI 
 is community development through arts education\, raising awareness of soc
 ial issues\, and the empowerment of young people\, all through the cultura
 l preservation of Arabic calligraphic forms indigenous to West Africa.\n\n
 Come and immerse yourself in the beauty of West African Sufism Poetry Insp
 ired Art at Dar al Islam. This event combines the spiritual essence of Suf
 i poetry with the creativity of art\, showcasing the rich cultural heritag
 e of West Africa. Join us for an evening of inspiration and artistic expre
 ssion as we explore the profound teachings of Sufism through the lens of p
 oetry and art. Don't miss this unique opportunity to experience the magic 
 of West African Sufism Poetry Inspired Art in person!\n\nArt work above an
 d below by the late Yelimane Fall\, whose work will be exhibited and discu
 ssed.\n\n\n\n\n\n\n\n\n\n\n\n\n\n\n\n\n
ATTACH;FMTTYPE=image/jpeg:https://www.arabamerica.com/wp-content/uploads/2
 025/09/W.jpeg
LOCATION:Dar al Islam\, 342 County Road 155\, Abiquiu\, 87510\, United Stat
 es
GEO:36.232098;-106.309877
X-APPLE-STRUCTURED-LOCATION;VALUE=URI;X-ADDRESS=342 County Road 155\, Abiqu
 iu\, 87510\, United States;X-APPLE-RADIUS=100;X-TITLE=Dar al Islam:geo:36.
 232098,-106.309877
END:VEVENT
BEGIN:VTIMEZONE
TZID:America/Detroit
X-LIC-LOCATION:America/Detroit
BEGIN:DAYLIGHT
DTSTART:20250309T030000
TZOFFSETFROM:-0500
TZOFFSETTO:-0400
TZNAME:EDT
END:DAYLIGHT
END:VTIMEZONE
END:VCALENDAR