BEGIN:VCALENDAR
VERSION:2.0
PRODID:-//wp-events-plugin.com//7.2.3.1//EN
TZID:America/Detroit
X-WR-TIMEZONE:America/Detroit
BEGIN:VEVENT
UID:32200@arabamerica.com
DTSTART;TZID=America/Detroit:20240224T160000
DTEND;TZID=America/Detroit:20240224T210000
DTSTAMP:20240206T033818Z
URL:https://www.arabamerica.com/events/west-park-for-gaza-3/
SUMMARY:West Park for Gaza
DESCRIPTION:Cleveland\, OH.\n\nJoin us for an upcoming neighborhood fundrai
 ser in solidarity with Palestine: West Park for Gaza\, at the Cretan Par
 ty Center on West 168th Street in Cleveland\, OH\, USA to where we will b
 e fundraising for HEAL Palestine.\n\nHEAL Palestine is a newly founded 501
 c3 nonprofit by Steve Sosebee\, the founder of Palestine Children’s Reli
 ef Fund over 30 years ago. HEAL Palestine’s mission is committed to do e
 verything possible to alleviate the suffering of Gaza’s children. HEAL s
 tands for Health\, Education\, Aid\, and Leadership. HEAL Palestine is a v
 olunteer-based organization that focus its services around holistic and gr
 assroots efforts that is built on the very basic concept of healing and pr
 oviding humanitarian support.\n\nWhile this is a free event\, we highly en
 courage atendees to please donate toward HEAL Palestine.\n\nTogether\, let
 's raise awareness\, learn\, and be in community together to uplift the ch
 ildren of Gaza and stand up for humanity. The event will be filled with en
 gaging and educational conversations\, special guest speaker Steve Sosebee
  of HEAL\, and ways to build meaningful connections that will further deep
 en the Cleveland support for Palestine. We can't wait to see you\, get you
 r tickets today!
ATTACH;FMTTYPE=image/jpeg:https://www.arabamerica.com/wp-content/uploads/2
 024/02/https___cdn.evbuc_.com_images_676732189_1971544385563_1_original.jp
 eg
CATEGORIES:#arabic,culture,Discussion
LOCATION:Cretan Party Center\, 3853 West 168th Street\, Cleveland\, Ohio\, 
 44111 \, United States
GEO:41.449784;-81.814146
X-APPLE-STRUCTURED-LOCATION;VALUE=URI;X-ADDRESS=3853 West 168th Street\, Cl
 eveland\, Ohio\, 44111 \, United States;X-APPLE-RADIUS=100;X-TITLE=Cretan 
 Party Center:geo:41.449784,-81.814146
END:VEVENT
BEGIN:VTIMEZONE
TZID:America/Detroit
X-LIC-LOCATION:America/Detroit
BEGIN:STANDARD
DTSTART:20231105T010000
TZOFFSETFROM:-0400
TZOFFSETTO:-0500
TZNAME:EST
END:STANDARD
END:VTIMEZONE
END:VCALENDAR