BEGIN:VCALENDAR
VERSION:2.0
PRODID:-//wp-events-plugin.com//7.2.3.1//EN
TZID:America/Detroit
X-WR-TIMEZONE:America/Detroit
BEGIN:VEVENT
UID:35061@arabamerica.com
DTSTART;TZID=America/New_York:20251004T160000
DTEND;TZID=America/New_York:20251004T190000
DTSTAMP:20250902T214504Z
URL:https://www.arabamerica.com/events/what-can-we-do-the-impact-of-genoci
 de-on-all-palestinian-families/
SUMMARY:What Can We Do? The Impact of Genocide on All Palestinian Families
DESCRIPTION:HURLEY\, NY\n\n\nRecently returned delegates share first hand a
 ccounts of the impact of ethnic cleansing as witnessed in refugee camps\, 
 clinics\, schools.\n\n\n\n\n\n\n\n\n\n\n\n\nJoin us for a very special eve
 ning of shared experiences\, dialogue\, and a call to action.\n\n&nbsp\;\n
 What Can We Do? The impact of the genocide on Palestinian families as witn
 essed by a delegation of Mental Health Professionals\nThis event is a fund
 raiser for DOCTORS AGAINST GENOCIDE\, and all proceeds from ticket sales w
 ill go directly to their organization. Doctors Against Genocide is a nonpr
 ofit organization founded in 2023 by a coalition of healthcare professiona
 ls who felt a distinct duty to unite their voices and tirelessly safeguard
  humanity and public health.\n\nAs recently returned delegates from a Ment
 al Health Delegation to Palestine\, we invite you to a powerful and intima
 te event. We will be sharing our experiences and firsthand accounts of the
  impact of ethnic cleansing as witnessed in refugee camps\, clinics\, scho
 ols\, and community organizations. We will welcome dialogue with you about
  what we can do NOW!\n\nThis special event will include:\n\n 	A delicious 
 Palestinian Mezze Buffet\n 	A powerful slideshow of our delegation's journ
 ey\n 	An insightful presentation highlighting first hand accounts\n 	An op
 en dialogue about what we can do\n 	A clear and direct call to action\n\n&
 nbsp\;\nWhat Can We Do? Will it make a Difference?\nLike many of us\, you 
 may feel an overwhelming sense of helplessness in the face of the unending
  stream of violence and suffering we are witnessing from afar. The enormit
 y of the genocide—the starvation and brutal targeting of people in Gaza\
 , along with the escalating ethnic cleansing and brutalization across the 
 West Bank\, East Jerusalem\, and Palestinian communities—can leave us pa
 ralyzed. It’s easy to feel that our individual actions are just a teardr
 op in the ocean\, completely inconsequential against the vast injustice an
 d complicity of those in power.\n\nWe are here to tell you that what you d
 o matters. This event is a response to that very despair. We will move pas
 t the feeling of helplessness by providing you with a clear path forward a
 nd concrete\, actionable steps to take. You are not alone\, and together\,
  we can stand in solidarity and ACT!\n\n\n\n\n\n\n\n\nGET TICKETS HERE\n\n
 \n\n\n\n\n\n
ATTACH;FMTTYPE=image/jpeg:https://www.arabamerica.com/wp-content/uploads/2
 025/09/Screenshot-2025-09-02-at-5.36.52-PM.png
LOCATION:210 NY-28\, 210 New York 28\, Hurley\, NY\, 12433\, United States
GEO:42.00177;-74.140884
X-APPLE-STRUCTURED-LOCATION;VALUE=URI;X-ADDRESS=210 New York 28\, Hurley\, 
 NY\, 12433\, United States;X-APPLE-RADIUS=100;X-TITLE=210 NY-28:geo:42.001
 77,-74.140884
END:VEVENT
BEGIN:VTIMEZONE
TZID:America/New_York
X-LIC-LOCATION:America/New_York
BEGIN:DAYLIGHT
DTSTART:20250309T030000
TZOFFSETFROM:-0500
TZOFFSETTO:-0400
TZNAME:EDT
END:DAYLIGHT
END:VTIMEZONE
END:VCALENDAR