BEGIN:VCALENDAR
VERSION:2.0
PRODID:-//wp-events-plugin.com//7.2.3.1//EN
TZID:America/Detroit
X-WR-TIMEZONE:America/Detroit
BEGIN:VEVENT
UID:35000@arabamerica.com
DTSTART;TZID=America/Detroit:20250826T100000
DTEND;TZID=America/Detroit:20250826T113000
DTSTAMP:20250819T033521Z
URL:https://www.arabamerica.com/events/what-comes-next-in-gaza/
SUMMARY:What Comes Next in Gaza?
DESCRIPTION:ONLINE\n\nAfter nearly two years of relentless bombing\, destru
 ction\, and mass atrocities in Gaza\, the Israeli government threatens to 
 deepen its military campaign by laying further waste to what remains of Ga
 za City. Arab Center Washington DC is convening a panel of experts to disc
 uss the current situation on the ground in Gaza and around the world as a 
 growing number of states continue to break with Israel over its conduct in
  the besieged strip. This panel will highlight the current humanitarian si
 tuation in Gaza\, the impact of Israel’s siege policies and the politics
  of aid schemes\, the domestic political situation in Israel and how that 
 is shaping Israeli decision-making\, the regional and global picture as Is
 rael and the United States become more diplomatically isolated\, and what\
 , if anything\, remains of ceasefire negotiations. Among the many question
 s we will seek to answer are: How have Israel’s policies around humanita
 rian aid and international organizations led to starvation in Gaza? Has Is
 rael’s military calculus around Gaza shifted after its war with Iran? Wh
 at divisions inside Israeli decision-making spaces are likely to shape out
 comes? What is US policy now toward the situation in Gaza and the Palestin
 ian future? Where do ceasefire negotiations stand now\, and what stands in
  the way of an agreement?
ATTACH;FMTTYPE=image/jpeg:https://www.arabamerica.com/wp-content/uploads/2
 025/08/Screen-Shot-2025-08-18-at-23.34.26.png
END:VEVENT
BEGIN:VTIMEZONE
TZID:America/Detroit
X-LIC-LOCATION:America/Detroit
BEGIN:DAYLIGHT
DTSTART:20250309T030000
TZOFFSETFROM:-0500
TZOFFSETTO:-0400
TZNAME:EDT
END:DAYLIGHT
END:VTIMEZONE
END:VCALENDAR