BEGIN:VCALENDAR
VERSION:2.0
PRODID:-//wp-events-plugin.com//7.2.3.1//EN
TZID:America/Detroit
X-WR-TIMEZONE:America/Detroit
BEGIN:VEVENT
UID:35206@arabamerica.com
DTSTART;TZID=America/Detroit:20251018T163000
DTEND;TZID=America/Detroit:20251018T163000
DTSTAMP:20251008T023409Z
URL:https://www.arabamerica.com/events/what-life-is-really-like-for-christ
 ians-in-the-holy-land/
SUMMARY:What Life is Really Like for Christians in the Holy Land
DESCRIPTION:BETHESDA\, MD
ATTACH;FMTTYPE=image/jpeg:https://www.arabamerica.com/wp-content/uploads/2
 025/10/960ae06f-929c-4017-883b-b77c52355072.jpeg
LOCATION:Westmoreland Congregational United Church of Christ\, 1 Westmorela
 nd Circle Northwest\, Bethesda\, MD\, 20816\, United States
GEO:38.9494874;-77.10181590000002
X-APPLE-STRUCTURED-LOCATION;VALUE=URI;X-ADDRESS=1 Westmoreland Circle North
 west\, Bethesda\, MD\, 20816\, United States;X-APPLE-RADIUS=100;X-TITLE=We
 stmoreland Congregational United Church of Christ:geo:38.9494874,-77.10181
 590000002
END:VEVENT
BEGIN:VTIMEZONE
TZID:America/Detroit
X-LIC-LOCATION:America/Detroit
BEGIN:DAYLIGHT
DTSTART:20250309T030000
TZOFFSETFROM:-0500
TZOFFSETTO:-0400
TZNAME:EDT
END:DAYLIGHT
END:VTIMEZONE
END:VCALENDAR