BEGIN:VCALENDAR
VERSION:2.0
PRODID:-//wp-events-plugin.com//7.2.3.1//EN
TZID:America/Detroit
X-WR-TIMEZONE:America/Detroit
BEGIN:VEVENT
UID:31616@arabamerica.com
DTSTART;TZID=America/Detroit:20231013T110000
DTEND;TZID=America/Detroit:20231013T140000
DTSTAMP:20230825T004737Z
URL:https://www.arabamerica.com/events/women-empowering-women-turning-stru
 ggle-into-strength-2/
SUMMARY:Women Empowering Women - Turning Struggle into Strength
DESCRIPTION:Join us for our 15th Annual Domestic Violence Fundraiser\, tak
 ing place October 13\, 2023\, at Byblos Banquet.\n\nThis women-only event 
 will bring together our compassionate community to create a lasting change
  in the lives of survivors of domestic violence in Southeast Michigan. All
  proceeds from this event will support the basic needs of these survivors 
 and their families who are part of ACCESS’ Survivors of Violence Empower
 ment Programs. Domestic violence continues to be highly prevalent in our c
 ommunities with alarming numbers of women\, children and families exposed 
 to abuse every day.\n\nMark your calendars and get ready to make a differe
 nce! Your presence and contributions will have a direct impact on the liv
 es of those who have experienced the trauma of domestic violence. Togethe
 r\, we can create a stronger\, more compassionate community empowering sur
 vivors and fostering healing.
ATTACH;FMTTYPE=image/jpeg:https://www.arabamerica.com/wp-content/uploads/2
 023/08/unnamed-2-1.png
CATEGORIES:Fundraiser,Fundraising,Health and Wellness,Michigan,Michigan
 Event,Women,Women Empowerment,Women Only
LOCATION:Byblos Banquet Center\, 7258 Chase Rd\, Dearborn\, MI\, 48126\, Un
 ited States
GEO:42.3446856;-83.18615699999998
X-APPLE-STRUCTURED-LOCATION;VALUE=URI;X-ADDRESS=7258 Chase Rd\, Dearborn\, 
 MI\, 48126\, United States;X-APPLE-RADIUS=100;X-TITLE=Byblos Banquet Cente
 r:geo:42.3446856,-83.18615699999998
END:VEVENT
BEGIN:VTIMEZONE
TZID:America/Detroit
X-LIC-LOCATION:America/Detroit
BEGIN:DAYLIGHT
DTSTART:20230312T030000
TZOFFSETFROM:-0500
TZOFFSETTO:-0400
TZNAME:EDT
END:DAYLIGHT
END:VTIMEZONE
END:VCALENDAR