BEGIN:VCALENDAR
VERSION:2.0
PRODID:-//wp-events-plugin.com//7.2.3.1//EN
TZID:America/Detroit
X-WR-TIMEZONE:America/Detroit
BEGIN:VEVENT
UID:36234@arabamerica.com
DTSTART;TZID=America/New_York:20260425T180000
DTEND;TZID=America/New_York:20260425T220000
DTSTAMP:20260422T015608Z
URL:https://www.arabamerica.com/events/womens-arabic-calligraphy-workshop/
SUMMARY:Women’s Arabic Calligraphy Workshop
DESCRIPTION:Overview\n\n\n\n\n\nWomen’s Arabic Calligraphy Workshop. Join
  us for an evening of creativity and culture! &#x2728\; &#xfe0f\;Arabic Ca
 lligraphy Workshop with acesartistry\n\n\n\n\n\n\nJoin us for an evening o
 f creativity and culture! &#x2728\;\n\n&#x1f58b\;&#xfe0f\;Arabic Calligrap
 hy Workshop with acesartistry&#x1f3a8\;\n\n&#x23f1\;&#xfe0f\;6PM – 10PM\
 n\n&#x1f4cd\;Dellah Brunch House\n\n20219 Carlysle St\n\nDearborn\, MI 481
 24\n\n&#x1f39f\;&#xfe0f\;$50\n\nImmerse yourself in the beauty of Arabic s
 cript while learning hands-on from an experienced instructor. Whether you
 ’re a beginner or just looking to refine your skills\, this workshop is 
 the perfect space to create and connect.\n\nYour experience includes:\n\n
 • A Calligraphy kit (canvas\, textured paste\, calligraphy pens\, practi
 ce templates + more!)\n\n• In-person instruction\n\n• Raffle entry to 
 win Blick Art gift cards\n\nSpots are limited—come sip\, create\, and be
  inspired &#x1f58b\;&#xfe0f\;\n\nInstagram: thesoukcollective_\n\nREGISTER
  https://docs.google.com/forms/d/1CF-mDCr5nfYzOxGtWQNRMeVZqQb1tdNdYE62ZaSA
 C1A/viewform?fbclid=PAZnRzaARAIGxleHRuA2FlbQIxMQBzcnRjBmFwcF9pZA8xMjQwMjQ1
 NzQyODc0MTQAAadJ5kFyO9MI3bY0JzgLjS3hIVua87hqXwdEQmpXl4PrO88-AD6ntPlC8mQyAw
 _aem_6RGp-7S4n4k2aSuiQt06iQ&amp\;edit_requested=true&amp\;utm_source=ig&am
 p\;utm_medium=social&amp\;utm_content=link_in_bio\n\n\n\n\nRead less
ATTACH;FMTTYPE=image/jpeg:https://www.arabamerica.com/wp-content/uploads/2
 026/04/WORK.webp
LOCATION:Dellah Coffee & Brunch House\, 20219 Carlysle Street\, Dearborn \,
  MI\, 48124\, United States
GEO:42.284096;-83.234792
X-APPLE-STRUCTURED-LOCATION;VALUE=URI;X-ADDRESS=20219 Carlysle Street\, Dea
 rborn \, MI\, 48124\, United States;X-APPLE-RADIUS=100;X-TITLE=Dellah Coff
 ee & Brunch House:geo:42.284096,-83.234792
END:VEVENT
BEGIN:VTIMEZONE
TZID:America/New_York
X-LIC-LOCATION:America/New_York
BEGIN:DAYLIGHT
DTSTART:20260308T030000
TZOFFSETFROM:-0500
TZOFFSETTO:-0400
TZNAME:EDT
END:DAYLIGHT
END:VTIMEZONE
END:VCALENDAR