BEGIN:VCALENDAR
VERSION:2.0
PRODID:-//wp-events-plugin.com//7.2.3.1//EN
TZID:America/Detroit
X-WR-TIMEZONE:America/Detroit
BEGIN:VEVENT
UID:33024@arabamerica.com
DTSTART;TZID=America/Detroit:20240629T180000
DTEND;TZID=America/Detroit:20240629T223000
DTSTAMP:20240612T051011Z
URL:https://www.arabamerica.com/events/womens-only-eid-party/
SUMMARY:Women's Only Eid Party
DESCRIPTION:It's the Girl's night you have been waiting for! Join us for an
  unforgettable evening filled with fun\, music\, delicious food\, and vibe
 s!\n\nSaturday\, June 29 · 6 - 10:30pm EDT\n\nThis one is for the Girls\,
  and Girls Only! This is a night for you to truly enjoy. Leave work\, worr
 ies and the kids behind\, while you join us for an evening filled with mus
 ic\, fun\, food\, and vibes. We have created this space to have fun and tr
 uly unwind because you deserve it. Dance like nobody is watching\, sing yo
 ur heart out\, and wear that dress you have been saving for this very mome
 nt. (Women 16+ Only)\n\nCelebrate Eid\, being a new bride\, a new graduate
 \, or just come and celebrate YOU!\n\nGrab your girls or come solo. We wil
 l have tasty drinks provided by BunaCa (they are non-alcoholic\, we promis
 e!) and some of the tastiest cuisine catered by SeneGambia.\n\nDisco Night
  will be our theme meaning you can dress as flashy as you want. Put those 
 dancing heels on and have fun in style.\n\n&nbsp\;
ATTACH;FMTTYPE=image/jpeg:https://www.arabamerica.com/wp-content/uploads/2
 024/06/IMG_0778.jpeg
LOCATION:Olas Villa\, 6450 West 10th Street #STE 5\, Indianapolis\, IN\, 46
 214\, United States
GEO:39.779883;-86.274502
X-APPLE-STRUCTURED-LOCATION;VALUE=URI;X-ADDRESS=6450 West 10th Street #STE 
 5\, Indianapolis\, IN\, 46214\, United States;X-APPLE-RADIUS=100;X-TITLE=O
 las Villa:geo:39.779883,-86.274502
END:VEVENT
BEGIN:VTIMEZONE
TZID:America/Detroit
X-LIC-LOCATION:America/Detroit
BEGIN:DAYLIGHT
DTSTART:20240310T030000
TZOFFSETFROM:-0500
TZOFFSETTO:-0400
TZNAME:EDT
END:DAYLIGHT
END:VTIMEZONE
END:VCALENDAR