BEGIN:VCALENDAR
VERSION:2.0
PRODID:-//wp-events-plugin.com//7.2.3.1//EN
TZID:America/Detroit
X-WR-TIMEZONE:America/Detroit
BEGIN:VEVENT
UID:35141@arabamerica.com
DTSTART;TZID=America/Detroit:20251017T183000
DTEND;TZID=America/Detroit:20251017T203000
DTSTAMP:20250923T145903Z
URL:https://www.arabamerica.com/events/write-of-return/
SUMMARY:Write of Return
DESCRIPTION:\n\n\nNEW YORK\, NY\n\n\n\nAll ticket proceeds will be donated 
 equally to Heal Palestine (healpalestine.org) and Go Project Hope (goproje
 cthope.org)\, each registered 501(c)(3) organizations. Ticket purchases an
 d donations are tax-deductible.\n\n\n\n\n\n\n\n\n\n
ATTACH;FMTTYPE=image/jpeg:https://www.arabamerica.com/wp-content/uploads/2
 025/09/aaa-1.jpeg
LOCATION:The People's Forum\, 320 West 37th Street \, New York\, NY\, 10018
 \, United States
GEO:40.754457;-73.993267
X-APPLE-STRUCTURED-LOCATION;VALUE=URI;X-ADDRESS=320 West 37th Street \, New
  York\, NY\, 10018\, United States;X-APPLE-RADIUS=100;X-TITLE=The People's
  Forum:geo:40.754457,-73.993267
END:VEVENT
BEGIN:VTIMEZONE
TZID:America/Detroit
X-LIC-LOCATION:America/Detroit
BEGIN:DAYLIGHT
DTSTART:20250309T030000
TZOFFSETFROM:-0500
TZOFFSETTO:-0400
TZNAME:EDT
END:DAYLIGHT
END:VTIMEZONE
END:VCALENDAR