BEGIN:VCALENDAR
VERSION:2.0
PRODID:-//wp-events-plugin.com//7.2.3.1//EN
TZID:America/Detroit
X-WR-TIMEZONE:America/Detroit
BEGIN:VEVENT
UID:35369@arabamerica.com
DTSTART;TZID=America/Detroit:20251120T180000
DTEND;TZID=America/Detroit:20251120T193000
DTSTAMP:20251105T010123Z
URL:https://www.arabamerica.com/events/writing-fellows-reading-open-mic-4/
SUMMARY:Writing Fellows Reading + Open Mic
DESCRIPTION:DEARBORN\, MI\n\n\nWriting Fellows Reading + Open Mic\nIn-perso
 n at AANM\nFree with RSVP\; Register here\n\nJoin us for an Open Mic Night
 \, featuring the 2025 graduates of the AANM Writing Fellows program! In ce
 lebration of the students completing their fellowship\, they will be shari
 ng work from their fellowship. Following\, we are creating a space for wri
 ters and musicians to share their work. Writers of poetry\, prose\, music 
 and more are welcome to sign up to perform. Spots are available on a first
 -come\, first-served basis!
ATTACH;FMTTYPE=image/jpeg:https://www.arabamerica.com/wp-content/uploads/2
 025/11/53149115093_b79780ede2_o-scaled-e1706217236191.jpeg
LOCATION:Arab American National Museum\, 13624 Michigan Avenue\, Dearborn \
 , MI\, 48126\, United States
GEO:42.3222224;-83.1766346
X-APPLE-STRUCTURED-LOCATION;VALUE=URI;X-ADDRESS=13624 Michigan Avenue\, Dea
 rborn \, MI\, 48126\, United States;X-APPLE-RADIUS=100;X-TITLE=Arab Americ
 an National Museum:geo:42.3222224,-83.1766346
END:VEVENT
BEGIN:VTIMEZONE
TZID:America/Detroit
X-LIC-LOCATION:America/Detroit
BEGIN:STANDARD
DTSTART:20251102T010000
TZOFFSETFROM:-0400
TZOFFSETTO:-0500
TZNAME:EST
END:STANDARD
END:VTIMEZONE
END:VCALENDAR