BEGIN:VCALENDAR
VERSION:2.0
PRODID:-//wp-events-plugin.com//7.2.3.1//EN
TZID:America/Detroit
X-WR-TIMEZONE:America/Detroit
BEGIN:VEVENT
UID:33420@arabamerica.com
DTSTART;TZID=America/Detroit:20240926T193000
DTEND;TZID=America/Detroit:20240926T193000
DTSTAMP:20240827T170143Z
URL:https://www.arabamerica.com/events/yacine-boulares-tarek-yamani-quarte
 t-waiyk-concert/
SUMMARY:Yacine Boulares & Tarek Yamani Quartet WAIYK Concert
DESCRIPTION:Washington\, DC\n\n\nExperience Arabic trance jazz conceptions 
 by French musicians on September 26 at La Maison Française.\n\n\n\n\n\n\n
 Join us for an exciting concert with Lebanese pianist Tarek Yamani and Fre
 nch-Tunisian saxophonist Yacine Boulares together in a new project that ce
 lebrates their mutual heritages.\n\nFrom Lebanese Dabke to the Tunisian tr
 aditions of Stambeli and Mezwed\, the two musicians bring Arabic trance rh
 ythms and the harmonic and melodic flexibility of Jazz together in a dynam
 ic quartet featuring Jongkuk Kim on drums (Aaron Parks\, Meshell\, Dayna S
 tephens…) and Sam Minaie on bass (Tigran Hamassian\, Dhafer Youssef…).
 \n\nYamani and Boulares are amongst a handful of Arabic musicians who have
  devoted their life to Jazz Music. Tarek Yamani lives between New York and
  Berlin and has been hailed a “trailblazing pianist” by CNN. Winner of
  the prestigious "Thelonious Monk Int'l Jazz Composers Competition" for hi
 s composition "Sama'i Yamani"\, Tarek has been part of 4 all-star global c
 oncerts of the International Jazz Day and shared the stage with luminaries
  such as Wayne Shorter\, Richard Bona\, Zakir Hussein\, Esperanza Spalding
 \, Antonio Sanchez\, Brian Blade and Vinnie Colaiuta.\n\nDescribed by Radi
 o France Internationale as “one of the most talented Jazzmen of his gene
 ration” and Yacine Boulares has recently accompanied Archie Shepp for th
 e re-creation of “the Cry of my people” in New York and has worked wit
 h the likes of Placido Domingo\, Nasheet Waits\, Vincent Segal and Tabou C
 ombo. He’s also the coleader of AJOYO with Sarah Elizabeth Charles &amp\
 ; Jesse Fischer and the co-founder of Habibi Festival in New York.\n\nList
 en to a few tracks by Yacine Boulares &amp\; Tarek Yamani Quartet below:\n
 \n 	Baaltek\n 	New Dabke\n 	Ifriqiya\n\n\n\n\n\n\nSecurity Rules: Each per
 son attending the event must have a ticket registered in their name and a 
 government-issued ID that matches the name on the reservation to enter the
  Embassy. No one will be admitted without a reservation and official ID. D
 ue to strict security measures\, please arrive on time\, as doors will be 
 closed at 7:30 pm sharp. Please allow for extra time for security screenin
 gs.\n\nCredits: This event is organized by the Institut Français USA - Vi
 lla Albertine and the Resources USA Foundation. Resources USA Foundation\,
  is a 501(c)(3) non-profit organization promoting collaboration between th
 e US and France to encourage Innovation in Science\, Technology\, Culture\
 , and Higher Education. Our organization is able to continue its mission b
 ecause of your support and generosity for our events at Maison Française\
 , whether it's a one-time gift\, a monthly contribution\, or part of a mat
 ching gifts program. Please contact us for contributions exceeding $250.\n
 \n\n
ATTACH;FMTTYPE=image/jpeg:https://www.arabamerica.com/wp-content/uploads/2
 024/08/Screenshot-2024-08-27-at-9.57.40 AM.png
CATEGORIES:Music/Folk/World
LOCATION:La Maison Française\, 4101 Reservoir Rd.\, NW\, Washington\, DC 2
 0007\, United States
GEO:38.913688;-77.078953
X-APPLE-STRUCTURED-LOCATION;VALUE=URI;X-ADDRESS=4101 Reservoir Rd.\, NW\, W
 ashington\, DC 20007\, United States;X-APPLE-RADIUS=100;X-TITLE=La Maison 
 Française:geo:38.913688,-77.078953
END:VEVENT
BEGIN:VTIMEZONE
TZID:America/Detroit
X-LIC-LOCATION:America/Detroit
BEGIN:DAYLIGHT
DTSTART:20240310T030000
TZOFFSETFROM:-0500
TZOFFSETTO:-0400
TZNAME:EDT
END:DAYLIGHT
END:VTIMEZONE
END:VCALENDAR