BEGIN:VCALENDAR
VERSION:2.0
PRODID:-//wp-events-plugin.com//7.2.3.1//EN
TZID:America/Detroit
X-WR-TIMEZONE:America/Detroit
BEGIN:VEVENT
UID:35169@arabamerica.com
DTSTART;TZID=America/Los_Angeles:20251018T220000
DTEND;TZID=America/Los_Angeles:20251019T020000
DTSTAMP:20250930T154821Z
URL:https://www.arabamerica.com/events/yalla-azizam-arabic-x-persian-night
 -pure-nightclub-oct-18th/
SUMMARY:Yalla Azizam : Arabic X Persian Night @PURE Nightclub Oct 18th
DESCRIPTION:SUNNYVALE\, CA\n\n&nbsp\;\n\nYalla Habibi is back! Oct 18th at 
 PURE Nightclub for an exclusive Arabic x Persian night. Dance\, vibe\, and
  party in true Azizam style\n\nYalla Azizam — Arabic x Persian Night | P
 URE Nightclub | October 18 | 21+\n\nThe party you’ve been waiting for is
  here! Yalla Habibi is back with another banger — and this time\, we’r
 e taking over Pure Nightclub\, San Jose’s premier celebrity nightclub.\n
 &#x1f334\; The Venue – PURE Nightclub\, San Jose\nWe’re bringing this 
 massive night to PURE Nightclub\, the crown jewel of San Jose nightlife.\n
 \n&#x1f3d9\;&#xfe0f\; Known for its state-of-the-art lighting\, booming so
 und system\, and luxurious atmosphere\, Pure is where energy meets eleganc
 e. With a spacious dance floor\, VIP bottle service\, and unmatched vibes\
 , this is the ultimate playground for the Arabic X Persian takeover.\n&#x1
 f483\; Dress to Impress\nThis is not your average night out—so bring you
 r A-game! Channel your inner superstar and come dressed in your most styli
 sh outfits. Think elegant\, bold\, and sexy—after all\, this is Yalla Pa
 pi\, and we’re here to turn heads!\n&#x1f3a7\; Music Lineup – The Best
  Arabic &amp\; Persian DJs in the U.S.\nWe’re bringing in the hottest Ar
 abic and Persian DJs from across the country\, each known for their abilit
 y to turn up the energy and keep the crowd on their feet all night long. W
 ith top-tier sound systems\, dynamic lighting\, and immersive visuals\, ge
 t ready for a multi-sensory experience that will leave you wanting more.\n
 \n&#x1f4c5\; Date: Saturday\, October 18&#x1f4cd\; Location: Pure Nightclu
 b\, San Jose&#x1f51e\; Age Requirement: 21+ (ID Required at Entry)&#x23f0\
 ; Doors Open: 10 PM – 2AM\n\n&#x1f680\; Tickets &amp\; VIP Experience\n&
 #x1f39f\; VIP Tables &amp\; Bottle Service – Want the ultimate VIP treat
 ment? Secure a private table\, enjoy bottle service\, and get front-row ac
 cess to the best views and vibes of the night. VIP packages include premiu
 m liquor\, personalized service\, and exclusive seating areas. Limited ava
 ilability—book now!\n\nVIP Bottle Service Reservation\n\nCall: 408.732.2
 121\n\nText: 408.430.7756\n\nGet Tickets Here\n\n&nbsp\;
ATTACH;FMTTYPE=image/jpeg:https://www.arabamerica.com/wp-content/uploads/2
 025/09/Screenshot-2025-09-30-at-11.43.54-AM.png
LOCATION:Pure Nightclub\, 146 South Murphy Avenue\, Sunnyvale\, CA\, 94086\
 , United States
GEO:37.376806;-122.029754
X-APPLE-STRUCTURED-LOCATION;VALUE=URI;X-ADDRESS=146 South Murphy Avenue\, S
 unnyvale\, CA\, 94086\, United States;X-APPLE-RADIUS=100;X-TITLE=Pure Nigh
 tclub:geo:37.376806,-122.029754
END:VEVENT
BEGIN:VTIMEZONE
TZID:America/Los_Angeles
X-LIC-LOCATION:America/Los_Angeles
BEGIN:DAYLIGHT
DTSTART:20250309T030000
TZOFFSETFROM:-0800
TZOFFSETTO:-0700
TZNAME:PDT
END:DAYLIGHT
END:VTIMEZONE
END:VCALENDAR