BEGIN:VCALENDAR
VERSION:2.0
PRODID:-//wp-events-plugin.com//7.2.3.1//EN
TZID:America/Detroit
X-WR-TIMEZONE:America/Detroit
BEGIN:VEVENT
UID:34574@arabamerica.com
DTSTART;TZID=America/Detroit:20250613T200000
DTEND;TZID=America/Detroit:20250613T210000
DTSTAMP:20250612T023828Z
URL:https://www.arabamerica.com/events/yalla-connect-new-york-new-jersey-2
 /
SUMMARY:Yalla Connect! New York\, New Jersey
DESCRIPTION:Township\, NJ\n\nAs part of the Arab America Foundation’s mis
 sion to connect and empower Arab Americans\, we invite you to join us at t
 he St. George Festival — 237 Long Hill Road\, Little Falls Township\, 
 NJ!\n\nMeet Arab America Co-Founders\, Warren and Dr. Amal David. Get the 
 latest on our national CONNECT Arab America Summit happening October 24-
 25 at the Teaneck Marriott at Glenpointe.\n\nOur gathering starts at 8:00 
 PM with delicious desserts\, but feel free to enjoy the festival earlier!\
 n\nLook for our table at the back of the tent with the Arab America Found
 ation sign.\n\nCan’t find us? Need more information? Give us a call!\n\
 n877-272-2944\n\nPlease register\, admission is free\n\nPlease confirm no 
 later than Thursday\, June 12\, 2025\n\nDonations are always welcome to th
 e Arab America Foundation\, a nonprofit (501(c)(3)) cultural and educatio
 nal organization.
ATTACH;FMTTYPE=image/jpeg:https://www.arabamerica.com/wp-content/uploads/2
 025/06/Screen-Shot-2025-06-11-at-10.39.32-PM.png
LOCATION:St George Orthodox Church\, 237 Long Hill Road Little Falls\, Town
 ship\, New Jersey\, 07424\, United States
GEO:40.866443;-74.203232
X-APPLE-STRUCTURED-LOCATION;VALUE=URI;X-ADDRESS=237 Long Hill Road Little F
 alls\, Township\, New Jersey\, 07424\, United States;X-APPLE-RADIUS=100;X-
 TITLE=St George Orthodox Church:geo:40.866443,-74.203232
END:VEVENT
BEGIN:VTIMEZONE
TZID:America/Detroit
X-LIC-LOCATION:America/Detroit
BEGIN:DAYLIGHT
DTSTART:20250309T030000
TZOFFSETFROM:-0500
TZOFFSETTO:-0400
TZNAME:EDT
END:DAYLIGHT
END:VTIMEZONE
END:VCALENDAR