BEGIN:VCALENDAR
VERSION:2.0
PRODID:-//wp-events-plugin.com//7.2.3.1//EN
TZID:America/Detroit
X-WR-TIMEZONE:America/Detroit
BEGIN:VEVENT
UID:34603@arabamerica.com
DTSTART;TZID=America/Detroit:20250628T120000
DTEND;TZID=America/Detroit:20250628T123000
DTSTAMP:20250617T072142Z
URL:https://www.arabamerica.com/events/yalla-eat-culinary-walking-tour/
SUMMARY:Yalla Eat! Culinary Walking Tour
DESCRIPTION:DEARBORN\, MI\n12 – 2:30 p.m. ET Saturday\, June 28\, 2025\nY
 alla Eat! Culinary Walking Tour\nPurchase Tickets\nMuseum Members: $50\nGe
 neral Public: $60\n\nImmerse yourself in delicious Arab American food cult
 ure on this guided tour of East Dearborn. Sample bites and sweets from som
 e of our favorite grocery stores\, restaurants\, spice shops and bakeries.
 \n\nFor questions\, e-mail Dave Serio\, Curator of Education\, at DSerio@
 accesscommunity.org
ATTACH;FMTTYPE=image/jpeg:https://www.arabamerica.com/wp-content/uploads/2
 025/06/Screenshot-2025-06-17-at-10.22.14 AM.png
LOCATION:Arab American National Museum\, 13624 Michigan Avenue Dearborn\, E
 ast Dearborn\, Michigan\, 48126\, United States
GEO:42.322224;-83.176682
X-APPLE-STRUCTURED-LOCATION;VALUE=URI;X-ADDRESS=13624 Michigan Avenue Dearb
 orn\, East Dearborn\, Michigan\, 48126\, United States;X-APPLE-RADIUS=100;
 X-TITLE=Arab American National Museum:geo:42.322224,-83.176682
END:VEVENT
BEGIN:VTIMEZONE
TZID:America/Detroit
X-LIC-LOCATION:America/Detroit
BEGIN:DAYLIGHT
DTSTART:20250309T030000
TZOFFSETFROM:-0500
TZOFFSETTO:-0400
TZNAME:EDT
END:DAYLIGHT
END:VTIMEZONE
END:VCALENDAR