BEGIN:VCALENDAR
VERSION:2.0
PRODID:-//wp-events-plugin.com//7.2.3.1//EN
TZID:America/Detroit
X-WR-TIMEZONE:America/Detroit
BEGIN:VEVENT
UID:35019@arabamerica.com
DTSTART;TZID=America/Detroit:20250829T200000
DTEND;TZID=America/Detroit:20250830T023000
DTSTAMP:20250820T165644Z
URL:https://www.arabamerica.com/events/yalla-habibi-la-desert-nights-arabi
 c-party-members-aug-29th/
SUMMARY:Yalla Habibi LA : Desert Nights Arabic party @Members Aug 29th
DESCRIPTION:\n\n\n\n\n\n\n\n\n\n\n\n\n\n\n\nYalla Habibi LA is back with ou
 r most exclusive and upscale event — Desert Nights at Members\, happenin
 g Friday\, Aug 29th.\n\n&nbsp\;\n\nThis is not just a party — it’s an 
 elevated cultural experience in one of Los Angeles' most luxurious private
  venues\, Members. Known for its ambiance and elite clientele\, Members se
 ts the perfect stage for a night of Arabic excellence.\n\n&nbsp\;\n\n&#x1f
 525\; WHAT TO EXPECT:\n\n 	Luxe Arabic-themed décor\n 	Gourmet food and p
 remium hookah (table reservations only)\n 	Full VIP bottle service\n 	Vale
 t parking available\n 	A curated crowd of tastemakers and music lovers\n\n
 &nbsp\;\n\n&#x1f39f\;&#xfe0f\; Ticket Information\n\nGA Ticket Price Start
  from $50\n\nVIP Table $200\n\nNote- $200 is deposit to reserve the Table.
 \n\nFrom 4-10 people each Table\n\nMin Spend on Table start from $800- $3k
 \n\nFood and Hookah included in tables Minimum\n\nMinimum spends may varie
 s on the booth you pick.\n\nCall 2139068644 for Table Map\, Hookah\, Bottl
 e and Food Menu\n\nDeposit will be refunded after the event.\n\n&nbsp\;\n\
 n&#x1f6ab\; NO TICKETS SOLD AT THE DOORThis event is exclusively for table
  reservations and RSVPs only. We expect a full house.\n\n&nbsp\;\n\n21+ On
 ly\n\n&nbsp\;\n&#x2728\; Secure your table today and be part of a one-of-a
 -kind night in LA nightlife.\nAll the picture and videos from the event wi
 ll be used for marketing and promotion purposes.\n\nWe reserve the right t
 o upload all the content on all social media platforms without approval fr
 om any attendee.\n\n&nbsp\;\nTerms &amp\; Conditions\nAll Sales Final: No 
 refunds\, cancellations\, credits\, exchanges\, or transfers. All purchase
 s are final.\n\nCOVID-19 Policy: Tickets remain non-refundable if you or y
 our party contract COVID-19 or a similar illness. You agree not to attend 
 if you have symptoms\, tested positive\, or were recently exposed and have
  not completed CDC-recommended quarantine.\n\nAgreement: By purchasing tic
 kets\, you agree to these terms\, forming a binding contract with the even
 t promoter.\n\nEvent Cancellations: If the event is canceled\, a refund wi
 ll be issued for the ticket’s face value only.\n\nLiability Waiver: By a
 ttending\, you waive all claims against the promoter for injury\, property
  damage\, or negligence.\n\nIndemnity: You agree to indemnify and hold har
 mless the promoter and its affiliates against any claims or legal action a
 rising from your participation.\n\nArbitration: Any legal disputes will be
  resolved via arbitration in Los Angeles County\, California.\n\nSeverabil
 ity: If any part of these terms is deemed unenforceable\, the remaining te
 rms will still apply.\n\n&nbsp\;\n\n\n\n\n\n\n\n\n\n\n\n\n\n\n\n\n\n\n\n\n
 \n\n\n\n\n\n\n\n\n\n\n\n\n\n\n\n\n\n\n\n\n\n\n
ATTACH;FMTTYPE=image/jpeg:https://www.arabamerica.com/wp-content/uploads/2
 025/08/Screenshot-2025-08-20-at-12.52.59-PM.png
LOCATION:Members Resturant and Club\, 7627 West Sunset Boulevard\, Los Ange
 les\, California\, 90046\, United States
GEO:34.098226;-118.355756
X-APPLE-STRUCTURED-LOCATION;VALUE=URI;X-ADDRESS=7627 West Sunset Boulevard\
 , Los Angeles\, California\, 90046\, United States;X-APPLE-RADIUS=100;X-TI
 TLE=Members Resturant and Club:geo:34.098226,-118.355756
END:VEVENT
BEGIN:VTIMEZONE
TZID:America/Detroit
X-LIC-LOCATION:America/Detroit
BEGIN:DAYLIGHT
DTSTART:20250309T030000
TZOFFSETFROM:-0500
TZOFFSETTO:-0400
TZNAME:EDT
END:DAYLIGHT
END:VTIMEZONE
END:VCALENDAR