BEGIN:VCALENDAR
VERSION:2.0
PRODID:-//wp-events-plugin.com//7.2.3.1//EN
TZID:America/Detroit
X-WR-TIMEZONE:America/Detroit
BEGIN:VEVENT
UID:34839@arabamerica.com
DTSTART;TZID=America/Detroit:20250809T180000
DTEND;TZID=America/Detroit:20250809T220000
DTSTAMP:20250730T100206Z
URL:https://www.arabamerica.com/events/yalla-habibi-michigan-all-white-ara
 bic-sundowner-3fifty-terrace-aug-9th/
SUMMARY:Yalla Habibi Michigan : All White Arabic Sundowner @3Fifty Terrace 
 Aug 9th
DESCRIPTION:DETROIT\, MICHIGAN\n\n\n\n\n\n\n\n\n\n\nDetroit\, it’s finall
 y happening. You asked for it—and we heard you loud and clear.\n\nAfter 
 countless requests and DMs from the Motor City\, Yalla Habibi is officiall
 y launching in Detroit for the very first time—and we’re going BIG.\n\
 nWe’re bringing the signature Yalla Habibi experience that’s taken ove
 r Los Angeles and other cities—top-tier venues\, high-energy vibes\, and
  unforgettable Arabic nightlife—to 3Fifty Terrace\, the most stunning ro
 oftop in town.\n\n&#x1f307\; Date: Friday\, August 9th\n\n&#x1f4cd\; Venue
 : 3Fifty Terrace – downtown Detroit’s premier rooftop with unbeatable 
 skyline views&#x1f457\; Dress Code: All White – clean\, elegant\, and su
 nset-approved\n\n&#x1f3a7\; Music: Arabic\, Persian\, Egyptian\, North Afr
 ican\, and international club beats &#x1f525\;\n\nDJ Lineup: Our DJ roster
  is absolutely stacked—expect wild sets and nonstop energy from start to
  finish\n\nThis is more than just a party—it’s a statement. A sundown 
 celebration like Detroit has never seen before.\n\nWhether you're soaking 
 in the sunset vibes or dancing beneath the city lights\, this is the rooft
 op night you’ve been waiting for.\n\n&#x1f39f\;&#xfe0f\; First-time laun
 ch + limited capacity = guaranteed SOLD OUT.Grab your all-white fits\, ral
 ly your crew\, and secure your tickets before they’re gone.\n\nDetroit
 —welcome to the Yalla Habibi family. Let’s make history.\n\nCheck out 
 our Instagram for Past Events - https://www.instagram.com/yallahabibila/\n
 \nFor VIP tables and Bottle Service\n\nContact: Kishan- 2139068644\n\n\n\n
 \n\n\n\n\n\n\n\n\n\n\n\n\n\n\n\n\n\n\n\n\n\n\n\n\n\n\n\n\n\n\n\n\n\n\n\n\n
 \n\n\n\n
ATTACH;FMTTYPE=image/jpeg:https://www.arabamerica.com/wp-content/uploads/2
 025/07/asasa-1.jpeg
LOCATION:3Fifty Terrace\, 350 Madison Street \, Detroit \, MI \, 48226\, Un
 ited States
GEO:42.337219;-83.045747
X-APPLE-STRUCTURED-LOCATION;VALUE=URI;X-ADDRESS=350 Madison Street \, Detro
 it \, MI \, 48226\, United States;X-APPLE-RADIUS=100;X-TITLE=3Fifty Terrac
 e:geo:42.337219,-83.045747
END:VEVENT
BEGIN:VTIMEZONE
TZID:America/Detroit
X-LIC-LOCATION:America/Detroit
BEGIN:DAYLIGHT
DTSTART:20250309T030000
TZOFFSETFROM:-0500
TZOFFSETTO:-0400
TZNAME:EDT
END:DAYLIGHT
END:VTIMEZONE
END:VCALENDAR