BEGIN:VCALENDAR
VERSION:2.0
PRODID:-//wp-events-plugin.com//7.2.3.1//EN
TZID:America/Detroit
X-WR-TIMEZONE:America/Detroit
BEGIN:VEVENT
UID:34892@arabamerica.com
DTSTART;TZID=America/Detroit:20250831T230000
DTEND;TZID=America/Detroit:20250901T040000
DTSTAMP:20250804T185954Z
URL:https://www.arabamerica.com/events/yalla-habibi-nyc-habibi-house-labor
 -day-weekend-phd-downtown/
SUMMARY:Yalla Habibi NYC: Habibi House – Labor Day Weekend @PHD Downtown
DESCRIPTION:\n\n\n\n\n\n\n\n\n\n\n\n\n\n\nYALLA HABIBI NYC: HABIBI HOUSE | 
 LABOR DAY WEEKEND EDITION\n&nbsp\;\n\n&#x1f4c5\; August 31st&#x23f0\; 11PM
  – 4AM&#x1f4cd\; PHD Rooftop Lounge at Dream Downtown355 W 16th St\, New
  York\, NY&#x1f464\; 21+ | Upscale Dress Code Strictly Enforced\n\nStep in
 to the world of luxury\, elegance\, and Middle Eastern rhythm as Yalla Hab
 ibi NYC returns with its signature experience—HABIBI HOUSE\, an exclusiv
 e Labor Day Weekend celebration at one of NYC’s most iconic venues: PHD 
 Rooftop Lounge.\n\n&nbsp\;\n&#x1f334\; The Venue – PHD Downtown\nPerched
  atop the chic Dream Downtown Hotel in the heart of Manhattan’s Meatpack
 ing District\, PHD offers breathtaking skyline views\, a stunning ambiance
 \, and a celebrity-favorite vibe that sets the tone for a night like no ot
 her.\n\n&#x2728\; What to expect:– NYC’s hottest Arabic and internatio
 nal DJs spinning Arabic house\, dabke\, deep beats &amp\; global hits– H
 igh-energy crowd of elite tastemakers and nightlife lovers– LED drum sho
 ws\, live performers\, and surprise entertainment– Premium bottle servic
 e with luxury VIP seating– Rooftop city views that will take your breath
  away\n\n&nbsp\;\n&#x1f483\; Dress to Impress\nThis is not your average ni
 ght out—so bring your A-game! Channel your inner superstar and come dres
 sed in your most stylish outfits. Think elegant\, bold\, and sexy—after 
 all\, this is Yalla Papi\, and we’re here to turn heads!\n\nThis isn’t
  just a party—it’s an upscale experience.Whether you're celebrating wi
 th friends\, popping bottles under the stars\, or dancing till sunrise\, H
 abibi House is the place to be this Labor Day Weekend.\n\n&#x1f39f\; Previ
 ous events have SOLD OUT early – secure your tickets now&#x1f4f8\; Insta
 gram: https://www.instagram.com/yallahabibi_us\n\nFor VIP tables or birthd
 ay celebrations\, text/call: 2139068644 Tables will sell out — reserve e
 arly to guarantee prime placement.\n\n&nbsp\;\n&#x1f483\; Dress to Impress
 \nThis is not your average night out—so bring your A-game! Channel your 
 inner superstar and come dressed in your most stylish outfits. Think elega
 nt\, bold\, and sexy—after all\, this is Yalla Papi\, and we’re here t
 o turn heads!\n\n\n\n\n\n\n\n\n\n\n\n\n\n\n\n\n\n\n\n\n\n\n\n\n\n\n\n\n\n\
 n\n\n\n\n\n\n\n\n\n\n\n\n\n\n\n\n\n\n\n\n
ATTACH;FMTTYPE=image/jpeg:https://www.arabamerica.com/wp-content/uploads/2
 025/08/Screenshot-2025-08-04-at-2.55.54-PM.png
LOCATION:PHD Rooftop Lounge at Dream Downtown\, 355 West 16th Street \, New
  York City\, NY\, 10011\, United States
GEO:40.742331;-74.003479
X-APPLE-STRUCTURED-LOCATION;VALUE=URI;X-ADDRESS=355 West 16th Street \, New
  York City\, NY\, 10011\, United States;X-APPLE-RADIUS=100;X-TITLE=PHD Roo
 ftop Lounge at Dream Downtown:geo:40.742331,-74.003479
END:VEVENT
BEGIN:VTIMEZONE
TZID:America/Detroit
X-LIC-LOCATION:America/Detroit
BEGIN:DAYLIGHT
DTSTART:20250309T030000
TZOFFSETFROM:-0500
TZOFFSETTO:-0400
TZNAME:EDT
END:DAYLIGHT
END:VTIMEZONE
END:VCALENDAR