BEGIN:VCALENDAR
VERSION:2.0
PRODID:-//wp-events-plugin.com//7.2.3.1//EN
TZID:America/Detroit
X-WR-TIMEZONE:America/Detroit
BEGIN:VEVENT
UID:35243@arabamerica.com
DTSTART;TZID=America/New_York:20251030T230000
DTEND;TZID=America/New_York:20251031T040000
DTSTAMP:20251014T025138Z
URL:https://www.arabamerica.com/events/yalla-habibi-nyc-haunted-nights-ara
 bic-halloween-party-dom-lounge/
SUMMARY:Yalla Habibi NYC: Haunted Nights | Arabic Halloween Party @ DOM Lou
 nge
DESCRIPTION:\n\n\nNYC’s sexiest Arabic Halloween Party! Experience Haunte
 d Nights at DOM Lounge – luxury\, music &amp\; mystery await.\n\n\n\n\n\
 n\n\n\n\nDate and time\n\n\n\n\nOctober 30 · 11pm - October 31 · 4am EDT
 \n\n\n\n\n\n\n\n\n\n\n\n\n\nLocation\n\n\n\nDOM\n\n287 Park Avenue South N
 ew York\, NY 10010\nGet directions\n\n\n\n\n\n\n\n\n\n\n\nGood to know\n\n
 \n\n\n\nHighlights\n\n\n\n 	5 hours\n 	In person\n\n\n\n\n\n\n\nRefund Pol
 icy\n\nNo refunds\n\n\n\n\n\n\n\n\n\n\n\n\nAbout this event\n\nCommunity 
 • City &amp\; Town\n\n\n\n\n\n\n\n\n\n\n\n\n\nWelcome to Yalla Habibi N
 YC: Haunted Nights\, the sexiest Arabic Halloween Party in New York City
  — taking over the stunning DOM Lounge.\n\n&#x2728\; Venue:\nDOM Loung
 e: A luxurious\, upscale nightlife destination in the heart of NYC. Expec
 t elite vibes\, stunning lights\, and the perfect setting for the city’s
  most seductive Halloween night.\n\n&#x1f525\; Expect:\n\n 	Exotic Arabic
  &amp\; Middle Eastern vibes all night long\n 	Top DJs spinning Arabic\, P
 ersian\, Afrobeats &amp\; club hits\n 	A seductive mix of mystery\, music\
 , and madness\n 	Breathtaking lighting\, VIP tables\, and themed decor\n 	
 $500 contest for the sexiest &amp\; scariest looks\n\n&#x1f483\; Dress 
 Code:\nSEXY &amp\; SCARY. Think dark seduction meets high fashion — ang
 els\, demons\, pharaohs\, and goddesses. The bolder\, the better.\n\n&#x1f
 39f\;&#xfe0f\; Details:\n&#x1f4c5\; Date: Oct 30\n&#x1f558\; Time: 11
  PM – 4 AM\n&#x1f4cd\; Venue: DOM Lounge\, New York City\n&#x1f51e\; 
 Age: 21+ only\n\n&#x1f480\; This isn’t your average Halloween party 
 — it’s an Arabic fantasy after dark. When the lights dim\, the real ma
 gic begins.\n\n&#x1f39f\;&#xfe0f\; Ticket Information\n\nGA Ticket Price
  starts from $40\n\nVIP Table $200\n\nNote- $200 is a deposit to reserve 
 the Table.\n\nFrom 6-10 people at each Table\n\nMin Spend on Table star
 ts from $800- $3kThe deposit\n\nMinimum spends may vary on the booth you 
 pick.\n\nCall 2139068644 for Table Map\, Bottle\, and Food Menu\n\nThe dep
 osit will be refunded after the event.\n\n&#x1f6ab\; NO TICKETS SOLD AT T
 HE DOOR. This event is exclusively for table reservations and RSVPs only
 . We expect a full house.\n\nAll the picturesvary and videos from the eve
 nt will be used for marketing and promotion purposes.\n\nWe reserve the ri
 ght to upload all the content on all social media platforms without approv
 al from any attendee.\nTerms &amp\; Conditions\nAll Sales Final: No refun
 ds\, cancellations\, credits\, exchanges\, or transfers. All purchases are
  final.\n\nCOVID-19 Policy: Tickets remain non-refundable if you or your 
 party contract COVID-19 or a similar illness. You agree not to attend if y
 ou have symptoms\, tested positive\, or were recently exposed and have not
  completed CDC-recommended quarantine.\n\nAgreement: By purchasing ticket
 s\, you agree to these terms\, forming a binding contract with the event p
 romoter.\n\nEvent Cancellations: If the event is canceled\, a refund will
  be issued for the ticket’s face value only.\n\nLiability Waiver: By at
 tending\, you waive all claims against the promoter for injury\, property 
 damage\, or negligence.\n\nIndemnity: You agree to indemnify and hold har
 mless the promoter and its affiliates against any claims or legal action a
 rising from your participation.\n\nArbitration: Any legal disputes will b
 e resolved via arbitration in Los Angeles County\, California.\n\nSeverabi
 lity: If any part of these terms is deemed unenforceable\, the remaining 
 terms will still apply.\n\n\n\n\n\n\n\n\n
ATTACH;FMTTYPE=image/jpeg:https://www.arabamerica.com/wp-content/uploads/2
 025/10/https___cdn.evbuc_.com_images_1150434673_2537611162541_1_original.j
 pg
CATEGORIES:Arab Music,clubbing,Clubs,costume party
LOCATION:DOM\, 287 Park Ave South\, New York\, NY\, 10010\, United States
GEO:40.739663;-73.986547
X-APPLE-STRUCTURED-LOCATION;VALUE=URI;X-ADDRESS=287 Park Ave South\, New Yo
 rk\, NY\, 10010\, United States;X-APPLE-RADIUS=100;X-TITLE=DOM:geo:40.7396
 63,-73.986547
END:VEVENT
BEGIN:VTIMEZONE
TZID:America/New_York
X-LIC-LOCATION:America/New_York
BEGIN:DAYLIGHT
DTSTART:20250309T030000
TZOFFSETFROM:-0500
TZOFFSETTO:-0400
TZNAME:EDT
END:DAYLIGHT
END:VTIMEZONE
END:VCALENDAR