BEGIN:VCALENDAR
VERSION:2.0
PRODID:-//wp-events-plugin.com//7.2.3.1//EN
TZID:America/Detroit
X-WR-TIMEZONE:America/Detroit
BEGIN:VEVENT
UID:35464@arabamerica.com
DTSTART;TZID=America/Detroit:20251220T190000
DTEND;TZID=America/Detroit:20251220T233000
DTSTAMP:20251211T135340Z
URL:https://www.arabamerica.com/events/yalla-habibi-x-arab-socials-nyc-tak
 eover-dec-20-mr-purple/
SUMMARY:Yalla Habibi x Arab Socials: NYC Takeover - Dec 20 @ MR. PURPLE
DESCRIPTION:\n\nOverview\n\n\n\n\n\nNew York Biggest Rooftop Arabic Party\n
 \n\n\n\nNYC'S Hottest Rooftop Holiday Party is Here !!\n\nExpect to dance 
 away on our nightclub on the water and take plenty of snaps of the view!\n
 \nApply to be a sponsor: https://forms.gle/qcXCBnG8Spj8FvB59\n\nVIP:\n\n$1
 \,000 min spend per table\n\nMust buy general admission tickets for each p
 erson in addition to a table ticket!!!\n\nDress Code : 90s themed\n\nDoors
  open 7pm\n\nArabic Music 7-11pm\nAGE &amp\; ID REQUIREMENTS-\nThis Event 
 is Strictly For 21 &amp\; Over. Proper Physical ID Will Be Required To ent
 er.\n\nPLEASE BRING A VALID PHYSICAL ID : State issued ID/Driver License o
 r Passport. NO other forms of identification will be accepted! Photocopies
  or pictures of your IDs on your phone will NOT be accepted. Physical ID r
 equired!\n\nAll the picture and videos from the event will be used for mar
 keting and promotion purposes.\n\nWe reserve the right to upload all the c
 ontent on all social media platforms without approval from any attendee.\n
 Terms &amp\; Conditions\nAll Sales Final: No refunds\, cancellations\, cr
 edits\, exchanges\, or transfers. All purchases are final.\n\nCOVID-19 Pol
 icy: Tickets remain non-refundable if you or your party contract COVID-19
  or a similar illness. You agree not to attend if you have symptoms\, test
 ed positive\, or were recently exposed and have not completed CDC-recommen
 ded quarantine.\n\nAgreement: By purchasing tickets\, you agree to these 
 terms\, forming a binding contract with the event promoter.\n\nEvent Cance
 llations: If the event is canceled\, a refund will be issued for the tick
 et’s face value only.\n\nLiability Waiver: By attending\, you waive all
  claims against the promoter for injury\, property damage\, or negligence.
 \n\nIndemnity: You agree to indemnify and hold harmless the promoter and 
 its affiliates against any claims or legal action arising from your partic
 ipation.\n\nArbitration: Any legal disputes will be resolved via arbitrat
 ion in NYC\n\nSeverability: If any part of these terms is deemed unenforc
 eable\, the remaining terms will still apply.\n\n\n\n\n\n\n\n\n\n\n\n\n
ATTACH;FMTTYPE=image/jpeg:https://www.arabamerica.com/wp-content/uploads/2
 025/11/https___cdn.evbuc_.com_images_1171168137_2252565076103_1_original.j
 peg
LOCATION:Mr. Purple\, 180 Orchard Street\, #15th floor New York\, NY\, 1000
 2\, United States
GEO:40.721741;-73.988103
X-APPLE-STRUCTURED-LOCATION;VALUE=URI;X-ADDRESS=180 Orchard Street\, #15th 
 floor New York\, NY\, 10002\, United States;X-APPLE-RADIUS=100;X-TITLE=Mr.
  Purple:geo:40.721741,-73.988103
END:VEVENT
BEGIN:VTIMEZONE
TZID:America/Detroit
X-LIC-LOCATION:America/Detroit
BEGIN:STANDARD
DTSTART:20251102T010000
TZOFFSETFROM:-0400
TZOFFSETTO:-0500
TZNAME:EST
END:STANDARD
END:VTIMEZONE
END:VCALENDAR