BEGIN:VCALENDAR
VERSION:2.0
PRODID:-//wp-events-plugin.com//7.2.3.1//EN
TZID:America/Detroit
X-WR-TIMEZONE:America/Detroit
BEGIN:VEVENT
UID:35006@arabamerica.com
DTSTART;TZID=America/Detroit:20250920T190000
DTEND;TZID=America/Detroit:20250920T230000
DTSTAMP:20250819T161656Z
URL:https://www.arabamerica.com/events/yalla-habibi-x-arab-socials-yacht-s
 undowner-arabic-party-sept-20th-new-york/
SUMMARY:Yalla Habibi X Arab Socials Yacht Sundowner Arabic Party Sept 20th 
 New York
DESCRIPTION:NEW YORK\, NY\n\n\n\n\n\n\n\n\n\n\n&nbsp\;\nNYC'S Hottest Arab 
 Yacht Party is Here !!\nClimb aboard a one-of-a-kind Arabic Boat Party\, f
 or an opportunity to view New YorkCity views from the comfort of multiple 
 climate-controlled decks (indoor and outdoor). Surrounded by spectacular s
 ights outside and elegant amenities inside\, you will glide past many of N
 YC's most legendary landmarks.\n\nExpect to dance away on our nightclub on
  the water and take plenty of snaps of the view!\n\nDress Code : All White
 \n\n&nbsp\;\nTOP 6 REASONS\, WHY YOU SHOULD NOT WAIT TO BOOK YOUR TICKETS-
 \n\n 	400+ goers\; Massive party and still plenty of ‘breathing room’ 
 to dance your face off\n 	Enhanced nightclub experience on the climate con
 trolled indoor deck with state of the art sound\, lights and ambience\n 	S
 tunning NYC views from the outdoor deck\n\n\n 	Ticket prices are subject t
 o change as capacity fills up\n 	Limited VIP tables and seating in front o
 f the stage\n\n&nbsp\;\nBOOK A VIP EXPERIENCE TO-\n\n 	Get front of the li
 ne status at the event entrance\n 	Get designated VIP table on the dancefl
 oor for the entirety of the event\n 	Get personal bartender for bottle ser
 vice\n 	Pay only reservation fee now\, and pay for the bottle when you ord
 er\n 	Scroll down to find the bottle menu\n 	The standard package is for 5
  guests\, can be customized for a group of 10 guests\n\n&nbsp\;\n\n 	Ticke
 t Price: The ticket price is only for entry. Early Bird tickets start at $
 60.\n 	Food &amp\; Drinks: Available to purchase on board.\n 	Boarding Loc
 ation: Sky Port Marina (2430 Fdr Drive\, New York \, 10010)\n 	Party Boat 
 Details: Entertainer Yacht\n 	Timing: Check in starts at 6:30 pm. Boarding
  starts at 7pm. Sail starts at 7:30pm (with or without you). Boat returns 
 at 11pm.\n 	Party Responsibly: Please DO NOT Drink &amp\; Drive. Opt for R
 ide Share Apps (Lyft or Uber)\, a taxi service or designated driver.\n\n&n
 bsp\;\nAGE &amp\; ID REQUIREMENTS-\nThis Event is Strictly For 21 &amp\; O
 ver. Proper Physical ID Will Be Required To enter.\n\nPLEASE BRING A VALID
  PHYSICAL ID : State issued ID/Driver License or Passport. NO other forms 
 of identification will be accepted! Photocopies or pictures of your IDs on
  your phone will NOT be accepted. Physical ID required!\n\nAll the picture
  and videos from the event will be used for marketing and promotion purpos
 es.\n\nWe reserve the right to upload all the content on all social media 
 platforms without approval from any attendee.\n\n&nbsp\;\nTerms &amp\; Con
 ditions\nAll Sales Final: No refunds\, cancellations\, credits\, exchanges
 \, or transfers. All purchases are final.\n\nCOVID-19 Policy: Tickets rema
 in non-refundable if you or your party contract COVID-19 or a similar illn
 ess. You agree not to attend if you have symptoms\, tested positive\, or w
 ere recently exposed and have not completed CDC-recommended quarantine.\n\
 nAgreement: By purchasing tickets\, you agree to these terms\, forming a b
 inding contract with the event promoter.\n\nEvent Cancellations: If the ev
 ent is canceled\, a refund will be issued for the ticket’s face value on
 ly.\n\nLiability Waiver: By attending\, you waive all claims against the p
 romoter for injury\, property damage\, or negligence.\n\nIndemnity: You ag
 ree to indemnify and hold harmless the promoter and its affiliates against
  any claims or legal action arising from your participation.\n\nArbitratio
 n: Any legal disputes will be resolved via arbitration in NYC\n\nSeverabil
 ity: If any part of these terms is deemed unenforceable\, the remaining te
 rms will still apply.\n\n\n\n\n\n\n\n\n\n\n\n\n\n\n\n\n\n\n\n\n\n\n\n
ATTACH;FMTTYPE=image/jpeg:https://www.arabamerica.com/wp-content/uploads/2
 025/08/SUNDOW.jpeg
LOCATION:Skyport Marina\, 2430 FDR Drive \, New York\, NY\, 10010\, United 
 States
GEO:40.735358;-73.973921
X-APPLE-STRUCTURED-LOCATION;VALUE=URI;X-ADDRESS=2430 FDR Drive \, New York\
 , NY\, 10010\, United States;X-APPLE-RADIUS=100;X-TITLE=Skyport Marina:geo
 :40.735358,-73.973921
END:VEVENT
BEGIN:VTIMEZONE
TZID:America/Detroit
X-LIC-LOCATION:America/Detroit
BEGIN:DAYLIGHT
DTSTART:20250309T030000
TZOFFSETFROM:-0500
TZOFFSETTO:-0400
TZNAME:EDT
END:DAYLIGHT
END:VTIMEZONE
END:VCALENDAR