BEGIN:VCALENDAR
VERSION:2.0
PRODID:-//wp-events-plugin.com//7.2.3.1//EN
TZID:America/Detroit
X-WR-TIMEZONE:America/Detroit
BEGIN:VEVENT
UID:35894@arabamerica.com
DTSTART;TZID=America/New_York:20260304T173000
DTEND;TZID=America/New_York:20260304T193000
DTSTAMP:20260221T023900Z
URL:https://www.arabamerica.com/events/yalla-iftar-dmv/
SUMMARY:Yalla Iftar! DMV
DESCRIPTION:\nYalla Iftar! Join the movement to preserve our heritage and e
 mpower Arab Americans.\n\n\n\n\n\nAs part of the Arab America Foundation
 ’s mission to promote Arab heritage\, educate about Arab identity\, and 
 connect and empower Arab Americans\, we invite you to join us for Yalla If
 tar! at 5:30 PM\, Bamian Restaurant\, 5634 Leesburg Pike\, Falls Church\
 , VA 22041\n\nThis gathering is an opportunity to connect with Arab Americ
 ans from the area and break bread at this Iftar.\n\nA specially priced Ift
 ar dinner buffet will be available for $35.34 per person (including gratui
 ty) and may be purchased directly from Bamian upon arrival. Please regist
 er here in advance to ensure an accurate headcount. We look forward to wel
 coming you for an evening of meaningful conversation\, connection\, and co
 mmunity.\n\nFor Information: 877-272-2944\n\nDonations are always welcome 
 to the Arab America Foundation\, a nonprofit (501(c)(3)) cultural and edu
 cational organization.\n\n\n
ATTACH;FMTTYPE=image/jpeg:https://www.arabamerica.com/wp-content/uploads/2
 026/02/Iftar-1.png
CATEGORIES:Arab,Arab Ameircan Event,Community,Food
LOCATION:Bamian Restaurant\, 5634 Leesburg Pike\, Falls Church\, Virginia\,
  22041\, United States
GEO:38.8493721;-77.12617970000002
X-APPLE-STRUCTURED-LOCATION;VALUE=URI;X-ADDRESS=5634 Leesburg Pike\, Falls 
 Church\, Virginia\, 22041\, United States;X-APPLE-RADIUS=100;X-TITLE=Bamia
 n Restaurant:geo:38.8493721,-77.12617970000002
END:VEVENT
BEGIN:VTIMEZONE
TZID:America/New_York
X-LIC-LOCATION:America/New_York
BEGIN:STANDARD
DTSTART:20251102T010000
TZOFFSETFROM:-0400
TZOFFSETTO:-0500
TZNAME:EST
END:STANDARD
END:VTIMEZONE
END:VCALENDAR