BEGIN:VCALENDAR
VERSION:2.0
PRODID:-//wp-events-plugin.com//7.2.3.1//EN
TZID:America/Detroit
X-WR-TIMEZONE:America/Detroit
BEGIN:VEVENT
UID:35248@arabamerica.com
DTSTART;TZID=America/Detroit:20251030T220000
DTEND;TZID=America/Detroit:20251031T030000
DTSTAMP:20251014T165447Z
URL:https://www.arabamerica.com/events/yallaween-2025/
SUMMARY:YALLAWEEN 2025
DESCRIPTION:\n\n\n\nQUEENS\, NY\n\nOverview\n\n\n\n\n\nWELCOME TO JAHANAM. 
 Hell Ye!\n\n\n\n\nThis year's Yallaween! is going to be EXTRA HOTTT\, with
  a SIZZLING JAHANAM lineup because we are so ready to RAGE!\n\nSounds by L
 ILLA\, CHICKLET\, AZADI.MP3\, MEDUUSA\n\nY’all ready?!!\nيلاّويي
 ييينننن\n\nɎΛⱠⱠΛ₩ɆɆ₦\nThurs\, Oct 30th 2025\n\nMEDUUSA
  has been DJing in NYC and abroad since 2010. A lifetime percussionist\, h
 is style is influenced by drum-heavy rhythms and breaks. He excels at read
 ing the crowd and has an extensive repertoire that brings undeniable energ
 y to the dance floor.\n\nLILLA is a Libyan American DJ based in Brookyln\,
  NYC\, who has played at a wide range of venues from small queer co-ops to
  clubs like Elsewhere. Her sets feature a range of genres including amapia
 no\, baile funk\, jersey club and more\, showcasing the breadth of her mus
 ic taste. She approaches DJing from the perspective of the dancefloor\, an
 ticipating what grooves and mixes will energize the crowd the most and kee
 p them dancing all night long.\n\n:CHICKLET: is a Brooklyn-based DJ who cu
 t their teeth in the world of electro\, breakbeat\, and psytrance. They no
 w channel that kinetic pulse into lush world-expanding eclectic soundscape
 s built for bodies in motion. For Yalla! Party they trace the sensual and 
 percussive edges of the SWANA dancefloor\, weaving modern and vintage Alge
 rian Raï\, Arabic pop\, Dabke\, Mahraganat\, Anatolian and Tyvan-inspired
  rhythms into hypnotic infinite loop of entrancement.\n\nAZADI.MP3 is a ri
 sing star in London’s DJ circuit &amp\; beyond\, warping discoveries and
  disappointments through the turntables as an act of self-preservation. Th
 eir frenzied DJ sets betray an earnest dedication to mischief: it’s a Se
 rious commitment to a Good Time. AZADI.mp3’s sets have torn up the dance
  floor at some of Londons most iconic venues\, and hot off the back of the
 ir sets at Glastonbury’s Terminal One and Shangri La\, this set will be 
 one to watch out for.\n\nKOFTA is a filmmaker and professor from Queens\, 
 NY. Growing up on her dad’s Moroccan and SWANA cassette tape stash\, whi
 le raised by the diverse sounds of 90’s New York\, she has cultivated a 
 unique musical archive that has become the emblematic melody\, heartbeat\,
  and signature soundscape of Yalla! Party Project.\n\nWe're so excited to 
 welcome London Yalla! boo Azadi.MP3 on our home turf with a proper Yalla! 
 rager to anoint her into the tribe in our sacred space.\n\nLate night All 
 Hallow's Eve Yalla! Rave after 3 AM\, y'all aint readyyyyy.\n\nSecure your
  tix now. Limited amount at Door.\n\n\n\n\n\n\n\n\n\n\n\n\n\n\nShow less\n
 \n\nCategory: Community\, Other\n\n\n\n\n\n\n\n\n\n\n\nGood to know\n\n\n\
 n\n\nHighlights\n\n\n\n 	6 hours\n 	Ages 21+\n 	In person\n 	\n\n\n\n\n\n\
 n\nRefund Policy\n\nRefunds up to 10 days before event\nGet Tickets Here\n
 \n\n\n\n\n\n
LOCATION:The Deep End\, 1080 Wyckoff Ave\, NY\, NY\, United States
GEO:40.694332;-73.902807
X-APPLE-STRUCTURED-LOCATION;VALUE=URI;X-ADDRESS=1080 Wyckoff Ave\, NY\, NY\
 , United States;X-APPLE-RADIUS=100;X-TITLE=The Deep End:geo:40.694332,-73.
 902807
END:VEVENT
BEGIN:VTIMEZONE
TZID:America/Detroit
X-LIC-LOCATION:America/Detroit
BEGIN:DAYLIGHT
DTSTART:20250309T030000
TZOFFSETFROM:-0500
TZOFFSETTO:-0400
TZNAME:EDT
END:DAYLIGHT
END:VTIMEZONE
END:VCALENDAR