BEGIN:VCALENDAR
VERSION:2.0
PRODID:-//wp-events-plugin.com//7.2.3.1//EN
TZID:America/Detroit
X-WR-TIMEZONE:America/Detroit
BEGIN:VEVENT
UID:32482@arabamerica.com
DTSTART;TZID=America/Detroit:20240321T190000
DTEND;TZID=America/Detroit:20240321T210000
DTSTAMP:20240318T133424Z
URL:https://www.arabamerica.com/events/yameen-raindrop-ramadan-iftar-dinne
 r/
SUMMARY:Yameen & Raindrop Ramadan Iftar Dinner
DESCRIPTION:[caption id="attachment_246443" align="alignnone" width="300"] 
 Raindrop Ramadan Iftar Dinner Promotional Image[/caption]\n\n&nbsp\;\n\nRO
 UND ROCK\, TEXAS\n\nYameen &amp\; Raindrop Ramadan Iftar Dinner\n\nCome jo
 in us for a delightful evening of breaking fast together at our Ramadan If
 tar Dinner event! We are excited to host this in-person gathering at 2650 
 Gattis School Rd ste 700. Let's share a meal\, connect with friends\, and 
 embrace the spirit of Ramadan. Don't miss out on this opportunity to enjoy
  delicious food and good company. Save the date and join us for a memorabl
 e evening!
ATTACH;FMTTYPE=image/jpeg:https://www.arabamerica.com/wp-content/uploads/2
 024/03/Raindrop-Ramadan-Iftar-Dinner-Promotional-Image-.jpeg
END:VEVENT
BEGIN:VTIMEZONE
TZID:America/Detroit
X-LIC-LOCATION:America/Detroit
BEGIN:DAYLIGHT
DTSTART:20240310T030000
TZOFFSETFROM:-0500
TZOFFSETTO:-0400
TZNAME:EDT
END:DAYLIGHT
END:VTIMEZONE
END:VCALENDAR