BEGIN:VCALENDAR
VERSION:2.0
PRODID:-//wp-events-plugin.com//7.2.3.1//EN
TZID:America/Detroit
X-WR-TIMEZONE:America/Detroit
BEGIN:VEVENT
UID:35212@arabamerica.com
DTSTART;TZID=America/Chicago:20251107T190000
DTEND;TZID=America/Chicago:20251107T203000
DTSTAMP:20251008T041140Z
URL:https://www.arabamerica.com/events/yemeni-american-comedian-ahmed-al-k
 adri-live-in-chicago/
SUMMARY:Yemeni-American comedian Ahmed Al-kadri (live in Chicago)
DESCRIPTION:CHICAGO\, IL\n\nAhmed Al-kadri is a Yemeni-American comedian ba
 sed in LA. He was previously working as an Accountant but his immigrant pa
 rents are forcing him to be a comedian. Most of his material is mined from
  his upbringing\, relatable situations\, and just some goofy fun. Ahmed ha
 s been touring all around the world from America to Asia and in between as
  his comedy is universal. You may also have seen him on the series David D
 iamondhands\, OFTV\, and his YouTube special “Special Not Special”\n\n
 Arab-American comedian Ahmed Al-kadri tours around the Midwest region to f
 urther disappoint his parents. Come see why!\n\n***\n\nSpecial accommodati
 ons can be made for larger parties. Please email thelincolnlodge@gmail.com
  with information about your party size and any specific requirements.\n\n
 REFUND POLICY: Please note that refunds are only available by request up t
 o 24 hours before the event start date. Requests for refunds after that w
 ill be declined but a credit note will be issued for future shows (via ema
 il.) Thanks.
ATTACH;FMTTYPE=image/jpeg:https://www.arabamerica.com/wp-content/uploads/2
 025/10/Screen-Shot-2025-10-08-at-12.10.10-AM.png
LOCATION:The Lincoln Lodge\, 2040 North Milwaukee Avenue\, Chicago \, Illin
 ois \, 60647\, United States
GEO:41.918237;-87.690271
X-APPLE-STRUCTURED-LOCATION;VALUE=URI;X-ADDRESS=2040 North Milwaukee Avenue
 \, Chicago \, Illinois \, 60647\, United States;X-APPLE-RADIUS=100;X-TITLE
 =The Lincoln Lodge:geo:41.918237,-87.690271
END:VEVENT
BEGIN:VTIMEZONE
TZID:America/Chicago
X-LIC-LOCATION:America/Chicago
BEGIN:STANDARD
DTSTART:20251102T010000
TZOFFSETFROM:-0500
TZOFFSETTO:-0600
TZNAME:CST
END:STANDARD
END:VTIMEZONE
END:VCALENDAR