BEGIN:VCALENDAR
VERSION:2.0
PRODID:-//wp-events-plugin.com//7.2.3.1//EN
TZID:America/Detroit
X-WR-TIMEZONE:America/Detroit
BEGIN:VEVENT
UID:35479@arabamerica.com
DTSTART;TZID=America/Los_Angeles:20260117T200000
DTEND;TZID=America/Los_Angeles:20260117T220000
DTSTAMP:20251125T224555Z
URL:https://www.arabamerica.com/events/yemeni-american-comedian-ahmed-al-k
 adri-live-in-seattle/
SUMMARY:Yemeni-American Comedian Ahmed Al-kadri Live in Seattle
DESCRIPTION:SEATTLE\, WA\n\nOverview\n\n\n\n\n\nDon’t miss Yemeni-America
 n comedian Ahmed Al-kadri bringing laughs live to Seattle—get ready for 
 a hilarious night!\n\n\n\nDon't Miss Yemeni-American Comedian Ahmed Al-kad
 ri Live in Seattle!\nGet ready for a night full of laughs with Ahmed Al-ka
 dri\, bringing his unique blend of humor to Seattle. This in-person show i
 s the perfect chance to experience his wit and storytelling up close. Whet
 her you're a fan of stand-up or just looking for a great time\, Ahmed's go
 t you covered. Grab your friends and join us for some unforgettable comedy
 !\n\nGet Tickets Here\n\n\n\n\n\n
ATTACH;FMTTYPE=image/jpeg:https://www.arabamerica.com/wp-content/uploads/2
 025/11/Screenshot-2025-11-25-at-5.44.06-PM.png
LOCATION:Cherry Street Village\, 720 25th Avenue\, Seattle\, WA\, 98122\, U
 nited States
GEO:47.6087;-122.299838
X-APPLE-STRUCTURED-LOCATION;VALUE=URI;X-ADDRESS=720 25th Avenue\, Seattle\,
  WA\, 98122\, United States;X-APPLE-RADIUS=100;X-TITLE=Cherry Street Villa
 ge:geo:47.6087,-122.299838
END:VEVENT
BEGIN:VTIMEZONE
TZID:America/Los_Angeles
X-LIC-LOCATION:America/Los_Angeles
BEGIN:STANDARD
DTSTART:20251102T010000
TZOFFSETFROM:-0700
TZOFFSETTO:-0800
TZNAME:PST
END:STANDARD
END:VTIMEZONE
END:VCALENDAR