BEGIN:VCALENDAR
VERSION:2.0
PRODID:-//wp-events-plugin.com//7.2.3.1//EN
TZID:America/Detroit
X-WR-TIMEZONE:America/Detroit
BEGIN:VEVENT
UID:35880@arabamerica.com
DTSTART;TZID=America/Los_Angeles:20260222T173000
DTEND;TZID=America/Los_Angeles:20260222T233000
DTSTAMP:20260217T181008Z
URL:https://www.arabamerica.com/events/young-hearts-for-syria-ramadan-ifta
 r/
SUMMARY:Young Hearts for Syria - Ramadan Iftar
DESCRIPTION:\n\n\nTo attend\, please make a minimum $50 donation per guest.
  Reserve a Spot by Sunday February 15th before we reach capacity. All are 
 welcome!\n\n\n\n\n\nYour donation supports a great cause and includes a de
 licious buffet dinner hosted by Angry Al's (shawarma and more).\n\nStay f
 or tea and card games!\n\nThis event is being organized by Hearts of Mercy
  - Young Hearts for Syria\, a nonprofit humanitarian organization dedicate
 d to supporting people and communities to do good well. All proceeds wil
 l go directly towards helping people in need rebuild and live fulfilling l
 ives through a variety of targeted initiatives including: housing reconstr
 uction\, environmental renewal\, medical aid\, education\, food relief and
  more.\n\n\n\n\n\nTake a look at our website to learn more\, and please re
 ach out with any questions!\nHearts of Mercy Website: https://www.heartso
 fmercy.org\n\nEmail: info@heartsofmercy.org\n\nPhone #: (949)241-1402\n\
 n\n\n\n\n\nClick Here if you feel inspired to Donate\n\nInterested in join
 ing the Young Hearts for Syria cause? See the flyer below!\n\n\n
ATTACH;FMTTYPE=image/jpeg:https://www.arabamerica.com/wp-content/uploads/2
 026/02/image-27.webp
LOCATION:Angry Al's\, 602 Pacific Coast Highway\, #Suite C Huntington Beach
 \, CA\, 92648\, United States
GEO:33.658751;-118.003478
X-APPLE-STRUCTURED-LOCATION;VALUE=URI;X-ADDRESS=602 Pacific Coast Highway\,
  #Suite C Huntington Beach\, CA\, 92648\, United States;X-APPLE-RADIUS=100
 ;X-TITLE=Angry Al's:geo:33.658751,-118.003478
END:VEVENT
BEGIN:VTIMEZONE
TZID:America/Los_Angeles
X-LIC-LOCATION:America/Los_Angeles
BEGIN:STANDARD
DTSTART:20251102T010000
TZOFFSETFROM:-0700
TZOFFSETTO:-0800
TZNAME:PST
END:STANDARD
END:VTIMEZONE
END:VCALENDAR